BEGIN:VCALENDAR
VERSION:2.0
PRODID:-//hacksw/handcal//NONSGML v1.0//EN
CALSCALE:GREGORIAN
BEGIN:VTIMEZONE
TZID:Europe/Berlin
X-LIC-LOCATION:Europe/Berlin
BEGIN:DAYLIGHT
TZOFFSETFROM:+0100
TZOFFSETTO:+0200
TZNAME:CEST
DTSTART:19700329T020000
RRULE:FREQ=YEARLY;BYDAY=-1SU;BYMONTH=3
END:DAYLIGHT
BEGIN:STANDARD
TZOFFSETFROM:+0200
TZOFFSETTO:+0100
TZNAME:CET
DTSTART:19701025T030000
RRULE:FREQ=YEARLY;BYDAY=-1SU;BYMONTH=10
END:STANDARD
END:VTIMEZONE
BEGIN:VEVENT
DTEND;TZID=Europe/Berlin:20250805T120000
UID:69e5147a2910d
DTSTAMP:20260419T194426
LOCATION:Filmhaus Huber - Maximilian-Philipp-Str. 15\, 86842 Türkheim
DESCRIPTION:Im Ferienkino kannst du im Filmhaus Huber die neusten Filme für nur 5€ sehen. Komm vorbei und lass dich verzaubern.\r\n\r\nDie Popcorn sind schon bereit!\r\n\r\nHeute sehen wir Vania 2
URL;VALUE=URI:https://www.unser-ferienprogramm.de/lechfeld/veranstaltung.php?id=287817
SUMMARY:Ferienkino 1 - Vania 2
DTSTART;TZID=Europe/Berlin:20250805T100000
END:VEVENT

END:VCALENDAR
