BEGIN:VCALENDAR
VERSION:2.0
PRODID:-//hacksw/handcal//NONSGML v1.0//EN
CALSCALE:GREGORIAN
BEGIN:VTIMEZONE
TZID:Europe/Berlin
X-LIC-LOCATION:Europe/Berlin
BEGIN:DAYLIGHT
TZOFFSETFROM:+0100
TZOFFSETTO:+0200
TZNAME:CEST
DTSTART:19700329T020000
RRULE:FREQ=YEARLY;BYDAY=-1SU;BYMONTH=3
END:DAYLIGHT
BEGIN:STANDARD
TZOFFSETFROM:+0200
TZOFFSETTO:+0100
TZNAME:CET
DTSTART:19701025T030000
RRULE:FREQ=YEARLY;BYDAY=-1SU;BYMONTH=10
END:STANDARD
END:VTIMEZONE
BEGIN:VEVENT
DTEND;TZID=Europe/Berlin:20250808T000000
UID:69e4fd077b76f
DTSTAMP:20260419T180423
LOCATION:Alle Infos bei www.untersternen.eu
DESCRIPTION:Die Outdoor-Erlebnisse von Unter Sternen sind demokratisch organisiert.\r\n\r\nWas bedeutet das? das bedeutet\, ihr entscheidet wohin es geht! Voraussetzung ist ein Deutschlandticket. Am Anfang der Reise entscheidet ihr gemeinsam\, wohin die Reise geht. \r\n\r\nNur eins ist sicher\, ihr packt euch einen Rucksack\, zieht in die Wildnis und übernachtet - wie der Name schon verrät - Unter Sternen. \r\n\r\nPackliste\, Treffpunkt erfahrt ihr alles auf der Webseite von www.untersternen.eu\r\n\r\nEs gibt einen Geschwisterrabatt von 10% 
URL;VALUE=URI:https://www.unser-ferienprogramm.de/lechfeld/veranstaltung.php?id=285128
SUMMARY:Auf ins Unbekannte - Unter Sternen
DTSTART;TZID=Europe/Berlin:20250803T000000
END:VEVENT

END:VCALENDAR
