BEGIN:VCALENDAR
VERSION:2.0
PRODID:-//hacksw/handcal//NONSGML v1.0//EN
CALSCALE:GREGORIAN
BEGIN:VTIMEZONE
TZID:Europe/Berlin
X-LIC-LOCATION:Europe/Berlin
BEGIN:DAYLIGHT
TZOFFSETFROM:+0100
TZOFFSETTO:+0200
TZNAME:CEST
DTSTART:19700329T020000
RRULE:FREQ=YEARLY;BYDAY=-1SU;BYMONTH=3
END:DAYLIGHT
BEGIN:STANDARD
TZOFFSETFROM:+0200
TZOFFSETTO:+0100
TZNAME:CET
DTSTART:19701025T030000
RRULE:FREQ=YEARLY;BYDAY=-1SU;BYMONTH=10
END:STANDARD
END:VTIMEZONE
BEGIN:VEVENT
DTEND;TZID=Europe/Berlin:20250805T130000
UID:69e4fd71dacfc
DTSTAMP:20260419T180609
LOCATION:Jugendhaus Untermeitingen
DESCRIPTION:Ist der Löwenzahn wirklich giftig?\r\nKann man Gänseblümchen essen?\r\nHast du dir diese Fragen auch schon gestellt? Dann melde dich an!\r\nWir gehen zusammen ein paar Wildkräuter entdecken und sammeln. Im Anschluß\, werden wir eine Kleinigkeit daraus zubereiten und zusammen verzehren.\r\nIch freue mich auf Dich.
URL;VALUE=URI:https://www.unser-ferienprogramm.de/lechfeld/veranstaltung.php?id=285105
SUMMARY:Wildkräuterwanderung 1
DTSTART;TZID=Europe/Berlin:20250805T110000
END:VEVENT

END:VCALENDAR
