BEGIN:VCALENDAR
VERSION:2.0
PRODID:-//hacksw/handcal//NONSGML v1.0//EN
CALSCALE:GREGORIAN
BEGIN:VTIMEZONE
TZID:Europe/Berlin
X-LIC-LOCATION:Europe/Berlin
BEGIN:DAYLIGHT
TZOFFSETFROM:+0100
TZOFFSETTO:+0200
TZNAME:CEST
DTSTART:19700329T020000
RRULE:FREQ=YEARLY;BYDAY=-1SU;BYMONTH=3
END:DAYLIGHT
BEGIN:STANDARD
TZOFFSETFROM:+0200
TZOFFSETTO:+0100
TZNAME:CET
DTSTART:19701025T030000
RRULE:FREQ=YEARLY;BYDAY=-1SU;BYMONTH=10
END:STANDARD
END:VTIMEZONE
BEGIN:VEVENT
DTEND;TZID=Europe/Berlin:20250726T130000
UID:69e5004d933d3
DTSTAMP:20260419T181821
LOCATION:Festplatz Klosterlechfeld
DESCRIPTION:Auch dieses Jahr veranstalten wir unseren Dorfflohmarkt in Klosterlechfeld!\r\n\r\nEs gibt Butterbrezen\, Kaffee und Kuchen! \r\n\r\nStandgebühr auf Spendenbasis zugunsten der "Jungen Lechfelder mit Handicap"\r\n\r\n
URL;VALUE=URI:https://www.unser-ferienprogramm.de/lechfeld/veranstaltung.php?id=285006
SUMMARY:Dorfflohmarkt Klosterlechfeld
DTSTART;TZID=Europe/Berlin:20250726T080000
END:VEVENT

END:VCALENDAR
