BEGIN:VCALENDAR
VERSION:2.0
PRODID:-//hacksw/handcal//NONSGML v1.0//EN
CALSCALE:GREGORIAN
BEGIN:VTIMEZONE
TZID:Europe/Berlin
X-LIC-LOCATION:Europe/Berlin
BEGIN:DAYLIGHT
TZOFFSETFROM:+0100
TZOFFSETTO:+0200
TZNAME:CEST
DTSTART:19700329T020000
RRULE:FREQ=YEARLY;BYDAY=-1SU;BYMONTH=3
END:DAYLIGHT
BEGIN:STANDARD
TZOFFSETFROM:+0200
TZOFFSETTO:+0100
TZNAME:CET
DTSTART:19701025T030000
RRULE:FREQ=YEARLY;BYDAY=-1SU;BYMONTH=10
END:STANDARD
END:VTIMEZONE
BEGIN:VEVENT
DTEND;TZID=Europe/Berlin:20250807T113000
UID:69e4fd7d5366d
DTSTAMP:20260419T180621
LOCATION:Vereinsheim Graben Kirchbergstraße 11
DESCRIPTION:Ihr habt Lust auf Tanzen\, Spiele\, Picknick und auf eine Überraschung?\r\n\r\nDann kommt zu unserem Prinzessinnentag!\r\n\r\nIhr dürft gerne in eurem Prinzessinnen Kleid kommen!
URL;VALUE=URI:https://www.unser-ferienprogramm.de/lechfeld/veranstaltung.php?id=285004
SUMMARY:Prinzessinnen-Tanz mit Picknick und Überraschung
DTSTART;TZID=Europe/Berlin:20250807T093000
END:VEVENT

END:VCALENDAR
