BEGIN:VCALENDAR
VERSION:2.0
PRODID:-//hacksw/handcal//NONSGML v1.0//EN
CALSCALE:GREGORIAN
BEGIN:VTIMEZONE
TZID:Europe/Berlin
X-LIC-LOCATION:Europe/Berlin
BEGIN:DAYLIGHT
TZOFFSETFROM:+0100
TZOFFSETTO:+0200
TZNAME:CEST
DTSTART:19700329T020000
RRULE:FREQ=YEARLY;BYDAY=-1SU;BYMONTH=3
END:DAYLIGHT
BEGIN:STANDARD
TZOFFSETFROM:+0200
TZOFFSETTO:+0100
TZNAME:CET
DTSTART:19701025T030000
RRULE:FREQ=YEARLY;BYDAY=-1SU;BYMONTH=10
END:STANDARD
END:VTIMEZONE
BEGIN:VEVENT
DTEND;TZID=Europe/Berlin:20250805T140000
UID:69e4fd7e2694e
DTSTAMP:20260419T180622
LOCATION:Leitenberg 27\, 86399 Bobingen Grillplatz der Wasserwacht Bobingen
DESCRIPTION:Du interessiert dich für Tiere\, Pflanzen und die Natur? Dann bist du hier genau richtig! Bei unserem Wald-Ausflug kannst du eine Menge erleben.\r\nWir treffen uns am Wasserwerk Bobingen und gehen gemeinsam in den Wald\, wo wir uns mit einem\r\nFörster treffen. Dieser begleitet uns bei einem spielerischen Erlebnistag durch den Wald.\r\nIm kühlen\, schattigen Wald erleben wir die Natur in ihrer ganzen Pracht. Der Tag wird von einem leckeren Grillwürstchen am Lagerfeuerplatz der Wasserwacht Bobingen abgerundet.\r\n
URL;VALUE=URI:https://www.unser-ferienprogramm.de/lechfeld/veranstaltung.php?id=284995
SUMMARY:Walderlebnistag 1
DTSTART;TZID=Europe/Berlin:20250805T100000
END:VEVENT

END:VCALENDAR
