BEGIN:VCALENDAR
VERSION:2.0
PRODID:-//hacksw/handcal//NONSGML v1.0//EN
CALSCALE:GREGORIAN
BEGIN:VTIMEZONE
TZID:Europe/Berlin
X-LIC-LOCATION:Europe/Berlin
BEGIN:DAYLIGHT
TZOFFSETFROM:+0100
TZOFFSETTO:+0200
TZNAME:CEST
DTSTART:19700329T020000
RRULE:FREQ=YEARLY;BYDAY=-1SU;BYMONTH=3
END:DAYLIGHT
BEGIN:STANDARD
TZOFFSETFROM:+0200
TZOFFSETTO:+0100
TZNAME:CET
DTSTART:19701025T030000
RRULE:FREQ=YEARLY;BYDAY=-1SU;BYMONTH=10
END:STANDARD
END:VTIMEZONE
BEGIN:VEVENT
DTEND;TZID=Europe/Berlin:20250803T143000
UID:69e4fed1a2bf2
DTSTAMP:20260419T181201
LOCATION:Lechfelder Straße 37\, 86836 Untermeitingen
DESCRIPTION:Mitmachtag bei der Johanniter-Jugend - der Jugendgruppe der Johanniter-Unfall-Hilfe e. V. auf dem Lechfeld\r\n\r\nAm 03.08.2025 sind alle Kinder von 6 bis 11 Jahren herzlich eingeladen\, einen spannenden Vormittag bei der Johanniter-Jugend zu erleben!\r\n\r\n- Die Hundestaffel zeigt tolle Tricks – Zuschauen und Streicheln erlaubt!\r\n- In der Teddy-Klinik werden Kuscheltiere mit Pflastern\, Verbänden und Schienung versorgt - bringt gerne euren Teddy oder euer Lieblingskuscheltier mit\r\n- Beim Parcours könnt ihr eure Geschicklichkeit testen\r\n- An der Station „Notfall – was tun?“ lernt ihr\, wie man richtig Hilfe holt\r\n- Bei „Die Johanniter-Wache und ihre Fahrzeuge“ erfahrt ihr\, wer wir sind\, wo wir sind\, was wir machen – und könnt unsere Wache und Einsatzwagen von innen anschauen!\r\n\r\nZum Abschluss gibt es ein leckeres Grillfest für alle!\r\n\r\nKommt vorbei – wir freuen uns auf euch!
URL;VALUE=URI:https://www.unser-ferienprogramm.de/lechfeld/veranstaltung.php?id=283072
SUMMARY:Willkommen bei den Johannitern - Erleben-Helfen-Mitmachen
DTSTART;TZID=Europe/Berlin:20250803T100000
END:VEVENT

END:VCALENDAR
