BEGIN:VCALENDAR
VERSION:2.0
PRODID:-//hacksw/handcal//NONSGML v1.0//EN
CALSCALE:GREGORIAN
BEGIN:VTIMEZONE
TZID:Europe/Berlin
X-LIC-LOCATION:Europe/Berlin
BEGIN:DAYLIGHT
TZOFFSETFROM:+0100
TZOFFSETTO:+0200
TZNAME:CEST
DTSTART:19700329T020000
RRULE:FREQ=YEARLY;BYDAY=-1SU;BYMONTH=3
END:DAYLIGHT
BEGIN:STANDARD
TZOFFSETFROM:+0200
TZOFFSETTO:+0100
TZNAME:CET
DTSTART:19701025T030000
RRULE:FREQ=YEARLY;BYDAY=-1SU;BYMONTH=10
END:STANDARD
END:VTIMEZONE
BEGIN:VEVENT
DTEND;TZID=Europe/Berlin:20250810T160000
UID:69e500a5d6eba
DTSTAMP:20260419T181949
LOCATION:Wird noch bekannt gegeben
DESCRIPTION:Hallo liebe Zeltlagerfreunde\,\r\nes ist wieder soweit! Auch dieses Jahr seid Ihr herzlich dazu eingeladen an dem Zeltlager der Katholischen Jugend Lechfeld teilzunehmen.\r\n*Abfahrt\r\nMittwoch\, 06.08.2025\, 09:30 Uhr in Graben am Pfarrheim (großer Parkplatz) Uhrzeit und Startort kann sich noch ändern\r\nDen Weg zum Zeltplatz bewältigen wir gemeinsam mit dem Fahrrad.\r\nUm eine sichere Fahrt zu gewährleisten ist dieses Jahr eine HELMPFLICHT U16.\r\n!Kinder ohne Helm dürfen nicht mitfahren!\r\nBitte vor der Abreise auf ein funktionstüchtiges Fahrrad achten\r\n(Helm\, Licht\, Klingel\, Schutzbleche\, Reifen\, Kette\, ...).\r\nDas Gepäck wird währenddessen von fleißigen Eltern zum Zeltplatzgefahren. Wenn Sie sich ebenfalls dafür anbieten möchten\, können Sie das in dem Teil der Anmeldung gerne mit ankreuzen.\r\n*Rückreise\r\nam Sonntag veranstalten wir ein großes\r\nFamilienfest\, bei dem alle Eltern herzlich dazu\r\neingeladen sind.\r\nUm dieses Fest gemeinsam schön zu gestalten\,\r\nbitten wir alle Eltern Häppchen\, Salate\,\r\nNachspeisen\, ... mitzubringen\, um gemeinsam ein\r\ngroßes Buffet aufbauen zu können. Bitte selbst\r\nBesteck und Essensgeschirr mitbringen!\r\nWährenddessen werden Ihnen die Kinder von den\r\nErlebnissen der letzten Tage erzählen.\r\nAnschließend wird gemeinsam abgebaut. Dabei\r\nbitten wir alle Eltern um Unterstützung die Zelte\r\nabzubauen\, die Anhänger zu beladen und den\r\nZeltplatz frei zu räumen.\r\nDie Rückreise findet nicht mit dem Fahrrad statt\, sondern per Auto Wenn Sie eine Transportmöglichkeit für die Fahrräder anbieten können\, notieren Sie dies mit der Anzahl der Räder\, die Sie zusätzlich Transportieren können auf der Rückseite der Anmeldung.
URL;VALUE=URI:https://www.unser-ferienprogramm.de/lechfeld/veranstaltung.php?id=282505
SUMMARY:Zeltlager - KJUL und die starken Männer
DTSTART;TZID=Europe/Berlin:20250806T083000
END:VEVENT

END:VCALENDAR
