BEGIN:VCALENDAR
VERSION:2.0
PRODID:-//hacksw/handcal//NONSGML v1.0//EN
CALSCALE:GREGORIAN
BEGIN:VTIMEZONE
TZID:Europe/Berlin
X-LIC-LOCATION:Europe/Berlin
BEGIN:DAYLIGHT
TZOFFSETFROM:+0100
TZOFFSETTO:+0200
TZNAME:CEST
DTSTART:19700329T020000
RRULE:FREQ=YEARLY;BYDAY=-1SU;BYMONTH=3
END:DAYLIGHT
BEGIN:STANDARD
TZOFFSETFROM:+0200
TZOFFSETTO:+0100
TZNAME:CET
DTSTART:19701025T030000
RRULE:FREQ=YEARLY;BYDAY=-1SU;BYMONTH=10
END:STANDARD
END:VTIMEZONE
BEGIN:VEVENT
DTEND;TZID=Europe/Berlin:20250803T180000
UID:69e515a77c8ea
DTSTAMP:20260419T194927
LOCATION:Wank bei Garmisch-Partenkirchen (Ziel kann sich je nach Wetterlage kurzfristig ändern)
DESCRIPTION:du liebst die Berge\, frische Luft und das Gefühl\, aus eigener Kraft den Gipfel zu erreichen? dann ist diese Tour genau das Richtige für dich!\r\n\r\ngemeinsam machen wir uns auf den Weg\, steigen über abwechslungsreiche Pfade stetig bergauf und erleben dabei die Schönheit der Natur mit allen Sinnen.\r\n\r\nam Gipfel genießen wir die Aussicht\, rasten gemütlich und kochen gemeinsam eine einfache\, aber feine Mahlzeit.\r\n\r\nder Rückweg führt uns gestärkt wieder ins Tal - mit müden Beinen\, aber glücklich im Herzen.\r\n\r\nfür alle\, die Lust auf echtes Bergabenteuer und gute Gesellschaft haben
URL;VALUE=URI:https://www.unser-ferienprogramm.de/lechfeld/veranstaltung.php?id=272341
SUMMARY:Gipfelstürmen - Wanderlust
DTSTART;TZID=Europe/Berlin:20250803T080000
END:VEVENT

END:VCALENDAR
