BEGIN:VCALENDAR
VERSION:2.0
PRODID:-//hacksw/handcal//NONSGML v1.0//EN
CALSCALE:GREGORIAN
BEGIN:VTIMEZONE
TZID:Europe/Berlin
X-LIC-LOCATION:Europe/Berlin
BEGIN:DAYLIGHT
TZOFFSETFROM:+0100
TZOFFSETTO:+0200
TZNAME:CEST
DTSTART:19700329T020000
RRULE:FREQ=YEARLY;BYDAY=-1SU;BYMONTH=3
END:DAYLIGHT
BEGIN:STANDARD
TZOFFSETFROM:+0200
TZOFFSETTO:+0100
TZNAME:CET
DTSTART:19701025T030000
RRULE:FREQ=YEARLY;BYDAY=-1SU;BYMONTH=10
END:STANDARD
END:VTIMEZONE
BEGIN:VEVENT
DTEND;TZID=Europe/Berlin:20260525T180000
UID:69e5c3682b8cd
DTSTAMP:20260420T081048
LOCATION:Haus der Jugend Langenhagen
DESCRIPTION:Wir treffen uns am Freitag den 22. Mai um 15.00 Uhr am Haus der Jugend Langenhagen am Langenforther Platz 1. \r\n\r\nVon hier starten wir am mit unserem Dienstfahrzeug nach Pirna\, wo wir auf dem Wasserplatz Pirna im Zelt für zwei Tage übernachten möchten. Samstag möchten wir einen Teil des „Malerweges“ wandern und die „Basteibrücke“ besichtigen. Sonntag wollen wir früh bis nach Prag weiterfahren und dort bei einem gemeinsamen Stadtrundgang die Stadt kennenlernen. Übernachten wollen wir hier in einer Ferienwohnung\, wo ihr in Doppelbetten übernachtet.\r\n\r\nUnsere Fahrt wird kein Luxusurlaub\, bitte achtet darauf das ihr festes Schuhwerk und dabei habt und Klamotten in denen ihr gut beweglich seid. Außerdem benötigt ihr einen Platz in einem Zelt\, sowie Isomatte und Schlafsack. Sollten euch Materialien fehlen geht bitte ins Gespräch mit einer unserer Jugendtreffleitungen.\r\n\r\nWichtig kommt bitte zu unserem Vortreffen am 12. Mai 18.00 Uhr im Jugendtreff Godshorn. Hier planen wir noch gemeinsam wie und was wir essen und weitere Details unserer Fahrt.\r\n
URL;VALUE=URI:https://www.unser-ferienprogramm.de/langenhagen/veranstaltung.php?id=311631
SUMMARY:Ü16 Fahrt Elbsandsteingebirge und Prag 
DTSTART;TZID=Europe/Berlin:20260522T150000
END:VEVENT

END:VCALENDAR
