BEGIN:VCALENDAR
VERSION:2.0
PRODID:-//hacksw/handcal//NONSGML v1.0//EN
CALSCALE:GREGORIAN
BEGIN:VTIMEZONE
TZID:Europe/Berlin
X-LIC-LOCATION:Europe/Berlin
BEGIN:DAYLIGHT
TZOFFSETFROM:+0100
TZOFFSETTO:+0200
TZNAME:CEST
DTSTART:19700329T020000
RRULE:FREQ=YEARLY;BYDAY=-1SU;BYMONTH=3
END:DAYLIGHT
BEGIN:STANDARD
TZOFFSETFROM:+0200
TZOFFSETTO:+0100
TZNAME:CET
DTSTART:19701025T030000
RRULE:FREQ=YEARLY;BYDAY=-1SU;BYMONTH=10
END:STANDARD
END:VTIMEZONE
BEGIN:VEVENT
DTEND;TZID=Europe/Berlin:20260530T140000
UID:69e5c361c3681
DTSTAMP:20260420T081041
LOCATION:Haus der Jugend\, Langenforther Platz 1\, 30851 Langenhagen
DESCRIPTION:In diesem Workshop entwickeln die Teilnehmenden ihre eigenen Comicfiguren und gestalten eine einseitige Comicgeschichte. Der Kurs richtet sich an Kinder und Jugendliche mit oder ohne Zeichenerfahrung. Ziel ist nicht perfektes Zeichnen\, sondern Ideen zu entwickeln und Geschichten visuell zu erzählen.\r\n\r\nZu Beginn lernen die Teilnehmenden einfache Methoden\, um Figuren mit wenigen Linien zu zeichnen und Emotionen darzustellen. Anschließend entdecken sie grundlegende Comic-Elemente wie Panels\, Perspektiven und Bildabfolgen.\r\n\r\nMit spielerischen Kreativmethoden – zum Beispiel Ideenkarten\, ungewöhnlichen Objekten oder Traumgeschichten – entstehen individuelle Comicideen. Die Teilnehmenden entwickeln daraus Schritt für Schritt ihre eigene kurze Comicgeschichte auf einer Seite. \r\n\r\n
URL;VALUE=URI:https://www.unser-ferienprogramm.de/langenhagen/veranstaltung.php?id=308164
SUMMARY:Comic und Manga Werkstatt
DTSTART;TZID=Europe/Berlin:20260530T110000
END:VEVENT


BEGIN:VEVENT
DTEND;TZID=Europe/Berlin:20260531T140000
UID:69e5c361c36b71
DTSTAMP:20260420T081041
LOCATION:Haus der Jugend\, Langenforther Platz 1\, 30851 Langenhagen
DESCRIPTION:In diesem Workshop entwickeln die Teilnehmenden ihre eigenen Comicfiguren und gestalten eine einseitige Comicgeschichte. Der Kurs richtet sich an Kinder und Jugendliche mit oder ohne Zeichenerfahrung. Ziel ist nicht perfektes Zeichnen\, sondern Ideen zu entwickeln und Geschichten visuell zu erzählen.\r\n\r\nZu Beginn lernen die Teilnehmenden einfache Methoden\, um Figuren mit wenigen Linien zu zeichnen und Emotionen darzustellen. Anschließend entdecken sie grundlegende Comic-Elemente wie Panels\, Perspektiven und Bildabfolgen.\r\n\r\nMit spielerischen Kreativmethoden – zum Beispiel Ideenkarten\, ungewöhnlichen Objekten oder Traumgeschichten – entstehen individuelle Comicideen. Die Teilnehmenden entwickeln daraus Schritt für Schritt ihre eigene kurze Comicgeschichte auf einer Seite. \r\n\r\n
URL;VALUE=URI:https://www.unser-ferienprogramm.de/langenhagen/veranstaltung.php?id=308164
SUMMARY:Comic und Manga Werkstatt
DTSTART;TZID=Europe/Berlin:20260531T110000
END:VEVENT

END:VCALENDAR
