BEGIN:VCALENDAR
VERSION:2.0
PRODID:-//hacksw/handcal//NONSGML v1.0//EN
CALSCALE:GREGORIAN
BEGIN:VTIMEZONE
TZID:Europe/Berlin
X-LIC-LOCATION:Europe/Berlin
BEGIN:DAYLIGHT
TZOFFSETFROM:+0100
TZOFFSETTO:+0200
TZNAME:CEST
DTSTART:19700329T020000
RRULE:FREQ=YEARLY;BYDAY=-1SU;BYMONTH=3
END:DAYLIGHT
BEGIN:STANDARD
TZOFFSETFROM:+0200
TZOFFSETTO:+0100
TZNAME:CET
DTSTART:19701025T030000
RRULE:FREQ=YEARLY;BYDAY=-1SU;BYMONTH=10
END:STANDARD
END:VTIMEZONE
BEGIN:VEVENT
DTEND;TZID=Europe/Berlin:20260515T133000
UID:69e5c372e6c51
DTSTAMP:20260420T081058
LOCATION:Abenteuerland\, Am DLRG - Silbersee\, 30851 Langenhagen
DESCRIPTION:Kennst du schon den Abenteuerspielplatz „Abenteuerland“ am Silbersee in Langenhagen? Hier findet nämlich eine aufregende Schatzsuche statt. Rund um den Silbersee und auf dem Gelände vom Abenteuerland heißt es dann: „Augen auf und Ohren gespitzt“ – Wer findet den nächsten Hinweis? Im Anschluss der Schatzsuche wird es noch ein Lagerfeuer mit Stockbrot und Leckereien geben. Nach so einer aufregenden Schatzsuche braucht es natürlich eine ordentliche Stärkung. An diesem Nachmittag gibt es keine Verlierer. Spiel\, Spaß und Spannung stehen im Vordergrund.
URL;VALUE=URI:https://www.unser-ferienprogramm.de/langenhagen/veranstaltung.php?id=308160
SUMMARY:Abenteuerland Werkstatt - Schatzsuche rund um den Silbersee
DTSTART;TZID=Europe/Berlin:20260515T110000
END:VEVENT

END:VCALENDAR
