BEGIN:VCALENDAR
VERSION:2.0
PRODID:-//hacksw/handcal//NONSGML v1.0//EN
CALSCALE:GREGORIAN
BEGIN:VTIMEZONE
TZID:Europe/Berlin
X-LIC-LOCATION:Europe/Berlin
BEGIN:DAYLIGHT
TZOFFSETFROM:+0100
TZOFFSETTO:+0200
TZNAME:CEST
DTSTART:19700329T020000
RRULE:FREQ=YEARLY;BYDAY=-1SU;BYMONTH=3
END:DAYLIGHT
BEGIN:STANDARD
TZOFFSETFROM:+0200
TZOFFSETTO:+0100
TZNAME:CET
DTSTART:19701025T030000
RRULE:FREQ=YEARLY;BYDAY=-1SU;BYMONTH=10
END:STANDARD
END:VTIMEZONE
BEGIN:VEVENT
DTEND;TZID=Europe/Berlin:20260518T183000
UID:69e5c30f77146
DTSTAMP:20260420T080919
LOCATION:Abenteuerland Langenhagen\, Am DLRG - Silbersee\, 30851 Langenhagen 
DESCRIPTION:Bist du bereit\, das Handwerk des Schmiedens zu entdecken? Dann bist du bei unserem Schmiedekurs genau richtig. Hier kannst du unter der Anleitung selbst Schmieden und deine ersten Schläge mit dem Schmiedehammer machen. Du wirst lernen\, wie du Metall mit Hammer und Amboss bearbeitest – und wieviel Kraft und Geduld fürs Schmieden benötigt wird. Das ist nicht nur spannend und brandheiß\, sondern macht auch richtig Spaß!
URL;VALUE=URI:https://www.unser-ferienprogramm.de/langenhagen/veranstaltung.php?id=307944
SUMMARY:Schmiede Schnupper Werkstatt 2
DTSTART;TZID=Europe/Berlin:20260518T160000
END:VEVENT

END:VCALENDAR
