BEGIN:VCALENDAR
VERSION:2.0
PRODID:-//hacksw/handcal//NONSGML v1.0//EN
CALSCALE:GREGORIAN
BEGIN:VTIMEZONE
TZID:Europe/Berlin
X-LIC-LOCATION:Europe/Berlin
BEGIN:DAYLIGHT
TZOFFSETFROM:+0100
TZOFFSETTO:+0200
TZNAME:CEST
DTSTART:19700329T020000
RRULE:FREQ=YEARLY;BYDAY=-1SU;BYMONTH=3
END:DAYLIGHT
BEGIN:STANDARD
TZOFFSETFROM:+0200
TZOFFSETTO:+0100
TZNAME:CET
DTSTART:19701025T030000
RRULE:FREQ=YEARLY;BYDAY=-1SU;BYMONTH=10
END:STANDARD
END:VTIMEZONE
BEGIN:VEVENT
DTEND;TZID=Europe/Berlin:20260521T180000
UID:69e5c361405d8
DTSTAMP:20260420T081041
LOCATION:Haus der Jugend\, Langenforther Platz 1\, 30851 Langenhagen
DESCRIPTION:Du wolltest schon immer mal an der Kletterwand am Haus der Jugend klettern? Du bist 12 Jahre oder älter? Dann ist jetzt die Chance\, wir öffnen in der kreARTiv werkstatt unsere Kletterwand am Haus der Jugend für dich. Eine Anmeldung ist bei unseren offenen Angeboten nicht nötig. Komm einfach vorbei und probiere dich aus. Ein Erfahrenes Team wird dir dabei mit Rat und Tat zur Seite stehen und dich beim Klettern sichern. \r\n
URL;VALUE=URI:https://www.unser-ferienprogramm.de/langenhagen/veranstaltung.php?id=307942
SUMMARY:Offene Kletter Werkstatt 2
DTSTART;TZID=Europe/Berlin:20260521T160000
END:VEVENT

END:VCALENDAR
