BEGIN:VCALENDAR
VERSION:2.0
PRODID:-//hacksw/handcal//NONSGML v1.0//EN
CALSCALE:GREGORIAN
BEGIN:VTIMEZONE
TZID:Europe/Berlin
X-LIC-LOCATION:Europe/Berlin
BEGIN:DAYLIGHT
TZOFFSETFROM:+0100
TZOFFSETTO:+0200
TZNAME:CEST
DTSTART:19700329T020000
RRULE:FREQ=YEARLY;BYDAY=-1SU;BYMONTH=3
END:DAYLIGHT
BEGIN:STANDARD
TZOFFSETFROM:+0200
TZOFFSETTO:+0100
TZNAME:CET
DTSTART:19701025T030000
RRULE:FREQ=YEARLY;BYDAY=-1SU;BYMONTH=10
END:STANDARD
END:VTIMEZONE
BEGIN:VEVENT
DTEND;TZID=Europe/Berlin:20260529T180000
UID:69e5c31053341
DTSTAMP:20260420T080920
LOCATION:Kindermalschule Paliga\, Kirchplatz 7\, 30853 Langenhagen
DESCRIPTION:Fantasievolles Gestalten oder Gebrauchsgegenstände? Ton bietet viele Möglichkeiten! Wie wäre es mit einer dekorativen Landschaft die entweder als Vogeltränke im Garten oder als ein Hingucker auf der Fensterbank benutzt werden kann. Nach dem ersten Brand kannst du am Freitag\, den 12.06.2025 dein Kunstwerk mit bunten Glasuren bemalen. So entstehen auf jeden Fall viele Kostbarkeiten mit individuellem Charakter\, die in keinem Laden zu finden sind.\r\n\r\nNach dem zweiten Brand kannst du dein Kunstwerk bei uns im Haus der Jugend abholen.\r\n
URL;VALUE=URI:https://www.unser-ferienprogramm.de/langenhagen/veranstaltung.php?id=307939
SUMMARY:Töpfern & Glasieren Werkstatt 2
DTSTART;TZID=Europe/Berlin:20260529T160000
END:VEVENT


BEGIN:VEVENT
DTEND;TZID=Europe/Berlin:20260612T180000
UID:69e5c310533731
DTSTAMP:20260420T080920
LOCATION:Kindermalschule Paliga\, Kirchplatz 7\, 30853 Langenhagen
DESCRIPTION:Fantasievolles Gestalten oder Gebrauchsgegenstände? Ton bietet viele Möglichkeiten! Wie wäre es mit einer dekorativen Landschaft die entweder als Vogeltränke im Garten oder als ein Hingucker auf der Fensterbank benutzt werden kann. Nach dem ersten Brand kannst du am Freitag\, den 12.06.2025 dein Kunstwerk mit bunten Glasuren bemalen. So entstehen auf jeden Fall viele Kostbarkeiten mit individuellem Charakter\, die in keinem Laden zu finden sind.\r\n\r\nNach dem zweiten Brand kannst du dein Kunstwerk bei uns im Haus der Jugend abholen.\r\n
URL;VALUE=URI:https://www.unser-ferienprogramm.de/langenhagen/veranstaltung.php?id=307939
SUMMARY:Töpfern & Glasieren Werkstatt 2
DTSTART;TZID=Europe/Berlin:20260612T160000
END:VEVENT

END:VCALENDAR
