BEGIN:VCALENDAR
VERSION:2.0
PRODID:-//hacksw/handcal//NONSGML v1.0//EN
CALSCALE:GREGORIAN
BEGIN:VTIMEZONE
TZID:Europe/Berlin
X-LIC-LOCATION:Europe/Berlin
BEGIN:DAYLIGHT
TZOFFSETFROM:+0100
TZOFFSETTO:+0200
TZNAME:CEST
DTSTART:19700329T020000
RRULE:FREQ=YEARLY;BYDAY=-1SU;BYMONTH=3
END:DAYLIGHT
BEGIN:STANDARD
TZOFFSETFROM:+0200
TZOFFSETTO:+0100
TZNAME:CET
DTSTART:19701025T030000
RRULE:FREQ=YEARLY;BYDAY=-1SU;BYMONTH=10
END:STANDARD
END:VTIMEZONE
BEGIN:VEVENT
DTEND;TZID=Europe/Berlin:20260602T183000
UID:69e5d96b64a5d
DTSTAMP:20260420T094443
LOCATION:Haus der Jugend\, Langenforther Platz 1\, 30851 Langenhagen
DESCRIPTION:Du wolltest schon immer selbst mit Elektronik basteln\, bauen und programmieren? Das ist der wahre Maker-Spirit! Wir wollen uns unter anderem mit der Frage beschäftigen: Wie programmiere ich kleine Microcontroller\, wie lötet man und wie kann ich mit wenig Aufwand spannende Dinge selbst herstellen.\r\nDiesmal wollen wir ein kleines MINI SPIEL konstruieren.\r\n\r\nEuer Projekt und den Microcontroller dürft ihr am Ende mit nach Hause nehmen.\r\n
URL;VALUE=URI:https://www.unser-ferienprogramm.de/langenhagen/veranstaltung.php?id=307935
SUMMARY:Maker Schnupper Werkstatt - Programmieren & Löten
DTSTART;TZID=Europe/Berlin:20260602T163000
END:VEVENT


BEGIN:VEVENT
DTEND;TZID=Europe/Berlin:20260609T183000
UID:69e5d96b64aa01
DTSTAMP:20260420T094443
LOCATION:Haus der Jugend\, Langenforther Platz 1\, 30851 Langenhagen
DESCRIPTION:Du wolltest schon immer selbst mit Elektronik basteln\, bauen und programmieren? Das ist der wahre Maker-Spirit! Wir wollen uns unter anderem mit der Frage beschäftigen: Wie programmiere ich kleine Microcontroller\, wie lötet man und wie kann ich mit wenig Aufwand spannende Dinge selbst herstellen.\r\nDiesmal wollen wir ein kleines MINI SPIEL konstruieren.\r\n\r\nEuer Projekt und den Microcontroller dürft ihr am Ende mit nach Hause nehmen.\r\n
URL;VALUE=URI:https://www.unser-ferienprogramm.de/langenhagen/veranstaltung.php?id=307935
SUMMARY:Maker Schnupper Werkstatt - Programmieren & Löten
DTSTART;TZID=Europe/Berlin:20260609T163000
END:VEVENT


BEGIN:VEVENT
DTEND;TZID=Europe/Berlin:20260616T183000
UID:69e5d96b64aae2
DTSTAMP:20260420T094443
LOCATION:Haus der Jugend\, Langenforther Platz 1\, 30851 Langenhagen
DESCRIPTION:Du wolltest schon immer selbst mit Elektronik basteln\, bauen und programmieren? Das ist der wahre Maker-Spirit! Wir wollen uns unter anderem mit der Frage beschäftigen: Wie programmiere ich kleine Microcontroller\, wie lötet man und wie kann ich mit wenig Aufwand spannende Dinge selbst herstellen.\r\nDiesmal wollen wir ein kleines MINI SPIEL konstruieren.\r\n\r\nEuer Projekt und den Microcontroller dürft ihr am Ende mit nach Hause nehmen.\r\n
URL;VALUE=URI:https://www.unser-ferienprogramm.de/langenhagen/veranstaltung.php?id=307935
SUMMARY:Maker Schnupper Werkstatt - Programmieren & Löten
DTSTART;TZID=Europe/Berlin:20260616T163000
END:VEVENT

END:VCALENDAR
