BEGIN:VCALENDAR
VERSION:2.0
PRODID:-//hacksw/handcal//NONSGML v1.0//EN
CALSCALE:GREGORIAN
BEGIN:VTIMEZONE
TZID:Europe/Berlin
X-LIC-LOCATION:Europe/Berlin
BEGIN:DAYLIGHT
TZOFFSETFROM:+0100
TZOFFSETTO:+0200
TZNAME:CEST
DTSTART:19700329T020000
RRULE:FREQ=YEARLY;BYDAY=-1SU;BYMONTH=3
END:DAYLIGHT
BEGIN:STANDARD
TZOFFSETFROM:+0200
TZOFFSETTO:+0100
TZNAME:CET
DTSTART:19701025T030000
RRULE:FREQ=YEARLY;BYDAY=-1SU;BYMONTH=10
END:STANDARD
END:VTIMEZONE
BEGIN:VEVENT
DTEND;TZID=Europe/Berlin:20260510T120000
UID:69e5c32080fe1
DTSTAMP:20260420T080936
LOCATION:Heinz von Heiden Arena\, Robert-Enke-Straße 3\, 30169 Hannover
DESCRIPTION:Du spielst selbst Fußball\, findest den Sport spannend oder kannst dich für Stadionbesuche begeistern? Dann ist diese Werkstatt genau das richtige für dich. Gemeinsam mit einem deiner Lieblingsmenschen\, kannst du das Stadion von Hannover 96 mal von einer anderen Seite entdecken. Bei einer exklusiven Stadionführung siehst du die Ränge für die 49.000 Besuchenden mal aus einer anderen Perspektive und bekommst Einblicke\, die den meisten verborgen bleiben. Bestimmt fallen dir Dinge auf\, die dir bei deinen Spielbesuchen bisher entgangen sind.
URL;VALUE=URI:https://www.unser-ferienprogramm.de/langenhagen/veranstaltung.php?id=307929
SUMMARY:Eltern Kind Stadionführung Werkstatt - Ein Tag bei Hannover 96 
DTSTART;TZID=Europe/Berlin:20260510T103000
END:VEVENT

END:VCALENDAR
