BEGIN:VCALENDAR
VERSION:2.0
PRODID:-//hacksw/handcal//NONSGML v1.0//EN
CALSCALE:GREGORIAN
BEGIN:VTIMEZONE
TZID:Europe/Berlin
X-LIC-LOCATION:Europe/Berlin
BEGIN:DAYLIGHT
TZOFFSETFROM:+0100
TZOFFSETTO:+0200
TZNAME:CEST
DTSTART:19700329T020000
RRULE:FREQ=YEARLY;BYDAY=-1SU;BYMONTH=3
END:DAYLIGHT
BEGIN:STANDARD
TZOFFSETFROM:+0200
TZOFFSETTO:+0100
TZNAME:CET
DTSTART:19701025T030000
RRULE:FREQ=YEARLY;BYDAY=-1SU;BYMONTH=10
END:STANDARD
END:VTIMEZONE
BEGIN:VEVENT
DTEND;TZID=Europe/Berlin:20260526T140000
UID:69e5c373407b2
DTSTAMP:20260420T081059
LOCATION:Haus der Jugend Langenhagen\, Langenforther Platz 1\, 30851 Langenhagen
DESCRIPTION:Heute widmen wir uns wieder dem Handwerk und bauen aus Holz einen Wüstenjeep. Der Wüstenjeep eignet sich super um erste Erfahrungen im Werken zu sammeln und sich an der Werkbank auszuprobieren. Natürlich braucht der Wüstenjeep richtig dicke Reifen\, damit er im Gelände gut vorankommt und Solltest du mal nicht mit ihm spielen\, ist er immer noch ein wirklicher Hingucker in deinem Kinderzimmer! 
URL;VALUE=URI:https://www.unser-ferienprogramm.de/langenhagen/veranstaltung.php?id=307921
SUMMARY:Wüstenjeep Werkstatt 
DTSTART;TZID=Europe/Berlin:20260526T100000
END:VEVENT

END:VCALENDAR
