BEGIN:VCALENDAR
VERSION:2.0
PRODID:-//hacksw/handcal//NONSGML v1.0//EN
CALSCALE:GREGORIAN
BEGIN:VTIMEZONE
TZID:Europe/Berlin
X-LIC-LOCATION:Europe/Berlin
BEGIN:DAYLIGHT
TZOFFSETFROM:+0100
TZOFFSETTO:+0200
TZNAME:CEST
DTSTART:19700329T020000
RRULE:FREQ=YEARLY;BYDAY=-1SU;BYMONTH=3
END:DAYLIGHT
BEGIN:STANDARD
TZOFFSETFROM:+0200
TZOFFSETTO:+0100
TZNAME:CET
DTSTART:19701025T030000
RRULE:FREQ=YEARLY;BYDAY=-1SU;BYMONTH=10
END:STANDARD
END:VTIMEZONE
BEGIN:VEVENT
DTEND;TZID=Europe/Berlin:20260526T140000
UID:69e5c310be5c3
DTSTAMP:20260420T080920
LOCATION:Haus der Jugend Langenhagen\, Langenforther Platz 1\, 30851 Langenhagen
DESCRIPTION:Wie entsteht eigentlich Wolle? Genau das wollen wir an diesem Tag herausfinden. Dafür besuchen wir heute den Stadtteilbauernhof Sahlkamp. Gemeinsam können wir dort das Waschen und Verarbeiten von Schafswolle ausprobieren. Außerdem lernen wir die Schafe kennen\, können sie Streicheln\, Füttern und einiges über sie lernen. Wenn dann noch etwas Zeit ist\, können wir uns andere Bauernhoftiere wie Hühner oder Ziegen aus der Nähe ansehen. Klingt nach aufregend? Dann sei dabei. 
URL;VALUE=URI:https://www.unser-ferienprogramm.de/langenhagen/veranstaltung.php?id=307909
SUMMARY:Vom Schaf zum Pullover Werkstatt
DTSTART;TZID=Europe/Berlin:20260526T090000
END:VEVENT

END:VCALENDAR
