BEGIN:VCALENDAR
VERSION:2.0
PRODID:-//hacksw/handcal//NONSGML v1.0//EN
CALSCALE:GREGORIAN
BEGIN:VTIMEZONE
TZID:Europe/Berlin
X-LIC-LOCATION:Europe/Berlin
BEGIN:DAYLIGHT
TZOFFSETFROM:+0100
TZOFFSETTO:+0200
TZNAME:CEST
DTSTART:19700329T020000
RRULE:FREQ=YEARLY;BYDAY=-1SU;BYMONTH=3
END:DAYLIGHT
BEGIN:STANDARD
TZOFFSETFROM:+0200
TZOFFSETTO:+0100
TZNAME:CET
DTSTART:19701025T030000
RRULE:FREQ=YEARLY;BYDAY=-1SU;BYMONTH=10
END:STANDARD
END:VTIMEZONE
BEGIN:VEVENT
DTEND;TZID=Europe/Berlin:20260601T180000
UID:69e5c3619a3a1
DTSTAMP:20260420T081041
LOCATION:Haus der Jugend Langenhagen\, Langenforther Platz 1\, 30851 Langenhagen
DESCRIPTION:Quizfragen beantworten macht dir Spaß? Dann bist du hier genau richtig. Bei einem Table Quiz\, spielst du in Teams verschiedene Quizrunden in denen du mit den richtigen Antworten Punkte sammeln kannst. Manche kannst du sicher einfach so beantworten\, bei anderen musst du etwas länger knobeln und dich mit deinem Team absprechen. Mit Teamgeist und ein bisschen Glück kommt ihr aber sicherlich zur richtigen Antwort!
URL;VALUE=URI:https://www.unser-ferienprogramm.de/langenhagen/veranstaltung.php?id=307893
SUMMARY:Table Quiz Werkstatt - Quizduell
DTSTART;TZID=Europe/Berlin:20260601T160000
END:VEVENT

END:VCALENDAR
