BEGIN:VCALENDAR
VERSION:2.0
PRODID:-//hacksw/handcal//NONSGML v1.0//EN
CALSCALE:GREGORIAN
BEGIN:VTIMEZONE
TZID:Europe/Berlin
X-LIC-LOCATION:Europe/Berlin
BEGIN:DAYLIGHT
TZOFFSETFROM:+0100
TZOFFSETTO:+0200
TZNAME:CEST
DTSTART:19700329T020000
RRULE:FREQ=YEARLY;BYDAY=-1SU;BYMONTH=3
END:DAYLIGHT
BEGIN:STANDARD
TZOFFSETFROM:+0200
TZOFFSETTO:+0100
TZNAME:CET
DTSTART:19701025T030000
RRULE:FREQ=YEARLY;BYDAY=-1SU;BYMONTH=10
END:STANDARD
END:VTIMEZONE
BEGIN:VEVENT
DTEND;TZID=Europe/Berlin:20260520T183000
UID:69e5c31ff04ee
DTSTAMP:20260420T080935
LOCATION:Haus der Jugend Langenhagen\, Langenforther Platz 1\, 30851 Langenhagen
DESCRIPTION:Die Kunst von Yayoi Kusama ist bunt\, oftmals rundlich und besteht meistens aus sehr vielen Punkten. Gerade erst war sie im Sprengel Museum ausgestellt. Vielleicht hat sie ja jemand von euch gesehen? Wir wollen in dieser Werkstatt eigene Kunstwerke in ähnlichem Stil gestalten. Die Skulpturen möchten wir aus Pappmaché bauen und nach dem Trocknen kunterbunt bemalen. Wir arbeiten heute mit Papier\, Pappe\, Kleister und Acrylfarben.
URL;VALUE=URI:https://www.unser-ferienprogramm.de/langenhagen/veranstaltung.php?id=307891
SUMMARY:Skulpturen Werkstatt - Punkt Punkt Skulpturen
DTSTART;TZID=Europe/Berlin:20260520T163000
END:VEVENT


BEGIN:VEVENT
DTEND;TZID=Europe/Berlin:20260527T183000
UID:69e5c31ff05201
DTSTAMP:20260420T080935
LOCATION:Haus der Jugend Langenhagen\, Langenforther Platz 1\, 30851 Langenhagen
DESCRIPTION:Die Kunst von Yayoi Kusama ist bunt\, oftmals rundlich und besteht meistens aus sehr vielen Punkten. Gerade erst war sie im Sprengel Museum ausgestellt. Vielleicht hat sie ja jemand von euch gesehen? Wir wollen in dieser Werkstatt eigene Kunstwerke in ähnlichem Stil gestalten. Die Skulpturen möchten wir aus Pappmaché bauen und nach dem Trocknen kunterbunt bemalen. Wir arbeiten heute mit Papier\, Pappe\, Kleister und Acrylfarben.
URL;VALUE=URI:https://www.unser-ferienprogramm.de/langenhagen/veranstaltung.php?id=307891
SUMMARY:Skulpturen Werkstatt - Punkt Punkt Skulpturen
DTSTART;TZID=Europe/Berlin:20260527T163000
END:VEVENT

END:VCALENDAR
