BEGIN:VCALENDAR
VERSION:2.0
PRODID:-//hacksw/handcal//NONSGML v1.0//EN
CALSCALE:GREGORIAN
BEGIN:VTIMEZONE
TZID:Europe/Berlin
X-LIC-LOCATION:Europe/Berlin
BEGIN:DAYLIGHT
TZOFFSETFROM:+0100
TZOFFSETTO:+0200
TZNAME:CEST
DTSTART:19700329T020000
RRULE:FREQ=YEARLY;BYDAY=-1SU;BYMONTH=3
END:DAYLIGHT
BEGIN:STANDARD
TZOFFSETFROM:+0200
TZOFFSETTO:+0100
TZNAME:CET
DTSTART:19701025T030000
RRULE:FREQ=YEARLY;BYDAY=-1SU;BYMONTH=10
END:STANDARD
END:VTIMEZONE
BEGIN:VEVENT
DTEND;TZID=Europe/Berlin:20260508T180000
UID:69e5c320306ac
DTSTAMP:20260420T080936
LOCATION:Haus der Jugend Langenhagen\, Langenforther Platz 1\, 30851 Langenhagen
DESCRIPTION:In unserer Werkstatt wartet eine neue Aufgabe auf alle Kinder\, die Spaß am Werken haben. Wir möchten gemeinsam mit euch ein Boot bauen. Nicht irgendein Boot\, sondern ein Jet-Boot mit echtem Antrieb und kleiner Stromversorgung. Natürlich alles in Spielzeugformat und ohne das Risiko\, nasse Füße zu bekommen. Die eingebaute Kreiselpumpe erzeugt dabei einen Hochdruck- Wasserstrahl\, dessen Rückstoß das Jet- Boot in Bewegung setzt. Klingt spannend? Dann bist du in dieser Holz Werkstatt genau richtig!
URL;VALUE=URI:https://www.unser-ferienprogramm.de/langenhagen/veranstaltung.php?id=307871
SUMMARY:Jet-Boot Werkstatt - Aus Holz und mit kleinem Antrieb
DTSTART;TZID=Europe/Berlin:20260508T153000
END:VEVENT


BEGIN:VEVENT
DTEND;TZID=Europe/Berlin:20260509T150000
UID:69e5c320306e11
DTSTAMP:20260420T080936
LOCATION:Haus der Jugend Langenhagen\, Langenforther Platz 1\, 30851 Langenhagen
DESCRIPTION:In unserer Werkstatt wartet eine neue Aufgabe auf alle Kinder\, die Spaß am Werken haben. Wir möchten gemeinsam mit euch ein Boot bauen. Nicht irgendein Boot\, sondern ein Jet-Boot mit echtem Antrieb und kleiner Stromversorgung. Natürlich alles in Spielzeugformat und ohne das Risiko\, nasse Füße zu bekommen. Die eingebaute Kreiselpumpe erzeugt dabei einen Hochdruck- Wasserstrahl\, dessen Rückstoß das Jet- Boot in Bewegung setzt. Klingt spannend? Dann bist du in dieser Holz Werkstatt genau richtig!
URL;VALUE=URI:https://www.unser-ferienprogramm.de/langenhagen/veranstaltung.php?id=307871
SUMMARY:Jet-Boot Werkstatt - Aus Holz und mit kleinem Antrieb
DTSTART;TZID=Europe/Berlin:20260509T100000
END:VEVENT

END:VCALENDAR
