BEGIN:VCALENDAR
VERSION:2.0
PRODID:-//hacksw/handcal//NONSGML v1.0//EN
CALSCALE:GREGORIAN
BEGIN:VTIMEZONE
TZID:Europe/Berlin
X-LIC-LOCATION:Europe/Berlin
BEGIN:DAYLIGHT
TZOFFSETFROM:+0100
TZOFFSETTO:+0200
TZNAME:CEST
DTSTART:19700329T020000
RRULE:FREQ=YEARLY;BYDAY=-1SU;BYMONTH=3
END:DAYLIGHT
BEGIN:STANDARD
TZOFFSETFROM:+0200
TZOFFSETTO:+0100
TZNAME:CET
DTSTART:19701025T030000
RRULE:FREQ=YEARLY;BYDAY=-1SU;BYMONTH=10
END:STANDARD
END:VTIMEZONE
BEGIN:VEVENT
DTEND;TZID=Europe/Berlin:20260520T183000
UID:69e5c368c17f0
DTSTAMP:20260420T081048
LOCATION:Haus der Jugend Langenhagen\, Langenforther Platz 1\, 30851 Langenhagen
DESCRIPTION:Heute hast du in unserer Holz- Werkstatt große Auswahl. Möchtest du eine Eisenbahn\, ein Schiff oder doch lieber ein Auto bauen? Wir benutzen dafür kleine Holzklötzchen\, die wir mit Kleber und Schrauben miteinander befestigen. Vorerfahrungen in der Werkstatt sind keine Voraussetzung und du kannst dein ganz persönliches Spielzeug selber bauen\, welches garantiert nur du besitzt.  
URL;VALUE=URI:https://www.unser-ferienprogramm.de/langenhagen/veranstaltung.php?id=307866
SUMMARY:Holzbau Werkstatt 
DTSTART;TZID=Europe/Berlin:20260520T160000
END:VEVENT

END:VCALENDAR
