BEGIN:VCALENDAR
VERSION:2.0
PRODID:-//hacksw/handcal//NONSGML v1.0//EN
CALSCALE:GREGORIAN
BEGIN:VTIMEZONE
TZID:Europe/Berlin
X-LIC-LOCATION:Europe/Berlin
BEGIN:DAYLIGHT
TZOFFSETFROM:+0100
TZOFFSETTO:+0200
TZNAME:CEST
DTSTART:19700329T020000
RRULE:FREQ=YEARLY;BYDAY=-1SU;BYMONTH=3
END:DAYLIGHT
BEGIN:STANDARD
TZOFFSETFROM:+0200
TZOFFSETTO:+0100
TZNAME:CET
DTSTART:19701025T030000
RRULE:FREQ=YEARLY;BYDAY=-1SU;BYMONTH=10
END:STANDARD
END:VTIMEZONE
BEGIN:VEVENT
DTEND;TZID=Europe/Berlin:20260522T184500
UID:69e5c3693e44e
DTSTAMP:20260420T081049
LOCATION:Haus der Jugend\, Langenforther Platz 1\, 30851 Langenhagen
DESCRIPTION:Dinosaurier\, Fischsaurier\, Mammuts\, Ammoniten – diese Tiere lebten auf unserer Erde\, lange bevor es uns Menschen gab. Wir wüssten nichts über diese Urzeittiere\, wenn sie uns keine Spuren in Form ihrer Fossilien hinterlassen hätten. Was erzählen uns die Jahrmillionen alten Versteinerungen über das Leben in der Uhrzeit? Im Landesmuseum erfahren wir heute ganz viel darüber und werden anschließend in einem kleinen Workshop selber Fossilien in Gips gießen.\r\n\r\nWir fahren gemeinsam mit der Straßenbahn vom Haus der Jugend zum Landesmuseum Hannover.
URL;VALUE=URI:https://www.unser-ferienprogramm.de/langenhagen/veranstaltung.php?id=307858
SUMMARY:Expedition: Urzeittiere Werkstatt
DTSTART;TZID=Europe/Berlin:20260522T151500
END:VEVENT

END:VCALENDAR
