BEGIN:VCALENDAR
VERSION:2.0
PRODID:-//hacksw/handcal//NONSGML v1.0//EN
CALSCALE:GREGORIAN
BEGIN:VTIMEZONE
TZID:Europe/Berlin
X-LIC-LOCATION:Europe/Berlin
BEGIN:DAYLIGHT
TZOFFSETFROM:+0100
TZOFFSETTO:+0200
TZNAME:CEST
DTSTART:19700329T020000
RRULE:FREQ=YEARLY;BYDAY=-1SU;BYMONTH=3
END:DAYLIGHT
BEGIN:STANDARD
TZOFFSETFROM:+0200
TZOFFSETTO:+0100
TZNAME:CET
DTSTART:19701025T030000
RRULE:FREQ=YEARLY;BYDAY=-1SU;BYMONTH=10
END:STANDARD
END:VTIMEZONE
BEGIN:VEVENT
DTEND;TZID=Europe/Berlin:20260511T190000
UID:69e5c36909d4b
DTSTAMP:20260420T081049
LOCATION:Haus der Jugend Langenhagen\, Langenforther Platz 1\, 30851 Langenhagen
DESCRIPTION:Frischkäse\, Quark\, Joghurt\, Gurke\, Möhren\, und Kräuter sind nur einige Lebensmittel die sich hervorragend für selbstgemachte Dips eignen. Woraus könnten wir noch Dips machen? Lasst euch überraschen und lasst uns gemeinsam Rezepte ausprobieren. Was darf zu den Dips selbstverständlich nicht fehlen? Natürlich ein leckerer „Dipper“ z.B. Brot\, etwas von den Möhren oder anderen knusprige Snacks. Wir freuen uns schon darauf mit euch die Köstlichkeiten zuzubereiten und zu probieren.\r\n\r\nBei bestehenden Allergien oder Lebensmittelunverträglichkeiten sprechen Sie uns gerne an.
URL;VALUE=URI:https://www.unser-ferienprogramm.de/langenhagen/veranstaltung.php?id=307852
SUMMARY:Dips & Dipper Werkstatt - Der perfekte Snack
DTSTART;TZID=Europe/Berlin:20260511T163000
END:VEVENT

END:VCALENDAR
