BEGIN:VCALENDAR
VERSION:2.0
PRODID:-//hacksw/handcal//NONSGML v1.0//EN
CALSCALE:GREGORIAN
BEGIN:VTIMEZONE
TZID:Europe/Berlin
X-LIC-LOCATION:Europe/Berlin
BEGIN:DAYLIGHT
TZOFFSETFROM:+0100
TZOFFSETTO:+0200
TZNAME:CEST
DTSTART:19700329T020000
RRULE:FREQ=YEARLY;BYDAY=-1SU;BYMONTH=3
END:DAYLIGHT
BEGIN:STANDARD
TZOFFSETFROM:+0200
TZOFFSETTO:+0100
TZNAME:CET
DTSTART:19701025T030000
RRULE:FREQ=YEARLY;BYDAY=-1SU;BYMONTH=10
END:STANDARD
END:VTIMEZONE
BEGIN:VEVENT
DTEND;TZID=Europe/Berlin:20260509T160000
UID:69e5c373baccc
DTSTAMP:20260420T081059
LOCATION:Haus der Jugend Langenhagen\, Langenforther Platz 1\, 30851 Langenhagen
DESCRIPTION:Hast du Lust aus Zutaten wie Zucker\, Eiern\, Mehl und Obst mehr zu machen als nur einen Kuchen? Dann bist du in dieser Werkstatt genau richtig! Heute dreht sich nämlich alles um das Thema Backen. Wir möchten gemeinsam eine leckere Torte und Biskuitrolle zubereiten. Dabei werden wir verschiedenen Rezepte ausprobieren und anschließend zur passenden Nachmittagszeit das Selbstgebackene essen und genießen. Zum Abschluss bekommt ihr dann alle Rezepte zum Nachbacken mit nach Hause. \r\n\r\n
URL;VALUE=URI:https://www.unser-ferienprogramm.de/langenhagen/veranstaltung.php?id=307851
SUMMARY:Backkunst Werkstatt - Mehr als nur Kuchen
DTSTART;TZID=Europe/Berlin:20260509T100000
END:VEVENT

END:VCALENDAR
