BEGIN:VCALENDAR
VERSION:2.0
PRODID:-//hacksw/handcal//NONSGML v1.0//EN
CALSCALE:GREGORIAN
BEGIN:VTIMEZONE
TZID:Europe/Berlin
X-LIC-LOCATION:Europe/Berlin
BEGIN:DAYLIGHT
TZOFFSETFROM:+0100
TZOFFSETTO:+0200
TZNAME:CEST
DTSTART:19700329T020000
RRULE:FREQ=YEARLY;BYDAY=-1SU;BYMONTH=3
END:DAYLIGHT
BEGIN:STANDARD
TZOFFSETFROM:+0200
TZOFFSETTO:+0100
TZNAME:CET
DTSTART:19701025T030000
RRULE:FREQ=YEARLY;BYDAY=-1SU;BYMONTH=10
END:STANDARD
END:VTIMEZONE
BEGIN:VEVENT
DTEND;TZID=Europe/Berlin:20260306T200000
UID:69e5eee68f454
DTSTAMP:20260420T111622
LOCATION:Jugendtreff Wiesenau Fuhrenkamp 3-5 | 30851 Langenhagen
DESCRIPTION:Aufgrund des großen Erfolges\, geht unser Gaming Treff im Jugendtreff Wiesenau in die nächste Runde. Jeden Freitag bis zu den Osterferien\, von 17.00 bis 20.00 Uhr\, für alle ab 12 Jahren. Gespielt werden Minecraft\, Rocket League\, Fortnite und League of Legends – Platz Reservierung im Treff oder online\, sei dabei! \r\n\r\nTeilnahme vor Ort auch ohne Anmeldung möglich!  Für kleine Snacks und Getränke ist gesorgt. Kostenlos.\r\n\r\n\r\n\r\n
URL;VALUE=URI:https://www.unser-ferienprogramm.de/langenhagen/veranstaltung.php?id=305397
SUMMARY:Gaming Treff - minecraft and more
DTSTART;TZID=Europe/Berlin:20260306T170000
END:VEVENT

END:VCALENDAR
