BEGIN:VCALENDAR
VERSION:2.0
PRODID:-//hacksw/handcal//NONSGML v1.0//EN
CALSCALE:GREGORIAN
BEGIN:VTIMEZONE
TZID:Europe/Berlin
X-LIC-LOCATION:Europe/Berlin
BEGIN:DAYLIGHT
TZOFFSETFROM:+0100
TZOFFSETTO:+0200
TZNAME:CEST
DTSTART:19700329T020000
RRULE:FREQ=YEARLY;BYDAY=-1SU;BYMONTH=3
END:DAYLIGHT
BEGIN:STANDARD
TZOFFSETFROM:+0200
TZOFFSETTO:+0100
TZNAME:CET
DTSTART:19701025T030000
RRULE:FREQ=YEARLY;BYDAY=-1SU;BYMONTH=10
END:STANDARD
END:VTIMEZONE
BEGIN:VEVENT
DTEND;TZID=Europe/Berlin:20260211T180000
UID:69e5edc7c835b
DTSTAMP:20260420T111135
LOCATION:Haus der Jugend Langenhagen
DESCRIPTION:ESCAPE SPIEL „Mission Museum: Echt oder Fake?“\r\n – Spannendes Abenteuer für Kinder im Rahmen des "Safer Internet Day 2026"\r\n\r\nHast du Lust auf ein aufregendes Abenteuer voller Rätsel\, Codes und kniffliger Aufgaben? Dann ist unser TillyBox Escape-Spiel „Mission Museum: Echt oder Fake?“ genau das Richtige!\r\nWir laden Kinder ab 10 Jahren ein\, gemeinsam auf Spurensuche zu gehen. Spielerisch lernt ihr\, Fake News zu erkennen\, Informationen zu prüfen und verantwortungsvoll mit Medien umzugehen.\r\n\r\nMit Teamgeist\, Cleverness und jeder Menge Spaß erkundet ihr das Museum\, knackt Codes und rettet eine wertvolle Münze. Das Abenteuer wartet auf euch!
URL;VALUE=URI:https://www.unser-ferienprogramm.de/langenhagen/veranstaltung.php?id=301093
SUMMARY:ESCAPE SPIEL „Mission Museum: Echt oder Fake?“
DTSTART;TZID=Europe/Berlin:20260211T163000
END:VEVENT

END:VCALENDAR
