BEGIN:VCALENDAR
VERSION:2.0
PRODID:-//hacksw/handcal//NONSGML v1.0//EN
CALSCALE:GREGORIAN
BEGIN:VTIMEZONE
TZID:Europe/Berlin
X-LIC-LOCATION:Europe/Berlin
BEGIN:DAYLIGHT
TZOFFSETFROM:+0100
TZOFFSETTO:+0200
TZNAME:CEST
DTSTART:19700329T020000
RRULE:FREQ=YEARLY;BYDAY=-1SU;BYMONTH=3
END:DAYLIGHT
BEGIN:STANDARD
TZOFFSETFROM:+0200
TZOFFSETTO:+0100
TZNAME:CET
DTSTART:19701025T030000
RRULE:FREQ=YEARLY;BYDAY=-1SU;BYMONTH=10
END:STANDARD
END:VTIMEZONE
BEGIN:VEVENT
DTEND;TZID=Europe/Berlin:20260330T140000
UID:69e5f08dbca72
DTSTAMP:20260420T112325
LOCATION:Haus der Jugend\, Langenforther Platz 1\, 30851 Langenhagen
DESCRIPTION:In den Osterferien heben wir ab! Vier Tage lang begeben wir uns auf eine fantasievolle Reise durchs Weltall. Mit Tanz\, Bewegung und Akrobatik entdecken wir neue Welten\, entwickeln eigene Choreografien und erfinden gemeinsam eine spannende Geschichte darüber\, was wir im All erleben.\r\nWas genau passiert\, entscheiden wir – Kreativität\, Spaß und Bewegung stehen im Mittelpunkt. Zum Abschluss präsentieren wir eine gemeinsame Performance. \r\nEin Ferienprojekt für alle\, die Lust haben\, sich zu bewegen\, Neues auszuprobieren und ihrer Fantasie freien Lauf lassen wollen. \r\n
URL;VALUE=URI:https://www.unser-ferienprogramm.de/langenhagen/veranstaltung.php?id=299038
SUMMARY:Tanz durch die Ferien - quer durchs Weltall 
DTSTART;TZID=Europe/Berlin:20260330T100000
END:VEVENT


BEGIN:VEVENT
DTEND;TZID=Europe/Berlin:20260331T140000
UID:69e5f08dbcab41
DTSTAMP:20260420T112325
LOCATION:Haus der Jugend\, Langenforther Platz 1\, 30851 Langenhagen
DESCRIPTION:In den Osterferien heben wir ab! Vier Tage lang begeben wir uns auf eine fantasievolle Reise durchs Weltall. Mit Tanz\, Bewegung und Akrobatik entdecken wir neue Welten\, entwickeln eigene Choreografien und erfinden gemeinsam eine spannende Geschichte darüber\, was wir im All erleben.\r\nWas genau passiert\, entscheiden wir – Kreativität\, Spaß und Bewegung stehen im Mittelpunkt. Zum Abschluss präsentieren wir eine gemeinsame Performance. \r\nEin Ferienprojekt für alle\, die Lust haben\, sich zu bewegen\, Neues auszuprobieren und ihrer Fantasie freien Lauf lassen wollen. \r\n
URL;VALUE=URI:https://www.unser-ferienprogramm.de/langenhagen/veranstaltung.php?id=299038
SUMMARY:Tanz durch die Ferien - quer durchs Weltall 
DTSTART;TZID=Europe/Berlin:20260331T100000
END:VEVENT


BEGIN:VEVENT
DTEND;TZID=Europe/Berlin:20260401T140000
UID:69e5f08dbcac22
DTSTAMP:20260420T112325
LOCATION:Haus der Jugend\, Langenforther Platz 1\, 30851 Langenhagen
DESCRIPTION:In den Osterferien heben wir ab! Vier Tage lang begeben wir uns auf eine fantasievolle Reise durchs Weltall. Mit Tanz\, Bewegung und Akrobatik entdecken wir neue Welten\, entwickeln eigene Choreografien und erfinden gemeinsam eine spannende Geschichte darüber\, was wir im All erleben.\r\nWas genau passiert\, entscheiden wir – Kreativität\, Spaß und Bewegung stehen im Mittelpunkt. Zum Abschluss präsentieren wir eine gemeinsame Performance. \r\nEin Ferienprojekt für alle\, die Lust haben\, sich zu bewegen\, Neues auszuprobieren und ihrer Fantasie freien Lauf lassen wollen. \r\n
URL;VALUE=URI:https://www.unser-ferienprogramm.de/langenhagen/veranstaltung.php?id=299038
SUMMARY:Tanz durch die Ferien - quer durchs Weltall 
DTSTART;TZID=Europe/Berlin:20260401T100000
END:VEVENT


BEGIN:VEVENT
DTEND;TZID=Europe/Berlin:20260402T140000
UID:69e5f08dbcace3
DTSTAMP:20260420T112325
LOCATION:Haus der Jugend\, Langenforther Platz 1\, 30851 Langenhagen
DESCRIPTION:In den Osterferien heben wir ab! Vier Tage lang begeben wir uns auf eine fantasievolle Reise durchs Weltall. Mit Tanz\, Bewegung und Akrobatik entdecken wir neue Welten\, entwickeln eigene Choreografien und erfinden gemeinsam eine spannende Geschichte darüber\, was wir im All erleben.\r\nWas genau passiert\, entscheiden wir – Kreativität\, Spaß und Bewegung stehen im Mittelpunkt. Zum Abschluss präsentieren wir eine gemeinsame Performance. \r\nEin Ferienprojekt für alle\, die Lust haben\, sich zu bewegen\, Neues auszuprobieren und ihrer Fantasie freien Lauf lassen wollen. \r\n
URL;VALUE=URI:https://www.unser-ferienprogramm.de/langenhagen/veranstaltung.php?id=299038
SUMMARY:Tanz durch die Ferien - quer durchs Weltall 
DTSTART;TZID=Europe/Berlin:20260402T100000
END:VEVENT

END:VCALENDAR
