BEGIN:VCALENDAR
VERSION:2.0
PRODID:-//hacksw/handcal//NONSGML v1.0//EN
CALSCALE:GREGORIAN
BEGIN:VTIMEZONE
TZID:Europe/Berlin
X-LIC-LOCATION:Europe/Berlin
BEGIN:DAYLIGHT
TZOFFSETFROM:+0100
TZOFFSETTO:+0200
TZNAME:CEST
DTSTART:19700329T020000
RRULE:FREQ=YEARLY;BYDAY=-1SU;BYMONTH=3
END:DAYLIGHT
BEGIN:STANDARD
TZOFFSETFROM:+0200
TZOFFSETTO:+0100
TZNAME:CET
DTSTART:19701025T030000
RRULE:FREQ=YEARLY;BYDAY=-1SU;BYMONTH=10
END:STANDARD
END:VTIMEZONE
BEGIN:VEVENT
DTEND;TZID=Europe/Berlin:20260331T140000
UID:69e5f01064f24
DTSTAMP:20260420T112120
LOCATION:Brinker Atelier\, Fuhrenkamp 17\, 30851 Langenhagen
DESCRIPTION:In dieser matschigen Osterferienaktion arbeiten wir mit Kleister\, Pappe und Papier. Du modelliest einen Osterhasen als größere Figur\, kleine Anhänger aus Pappe\, oder ein Häschen mit beweglichen Gliedern. Je nachdem wieviel Zeit noch übrig ist\, kann noch ein 3D-Hasenbild aus Eierkarton gestaltet oder ein Wackelhase gebaut werden.                                                                                                      Am ersten Tag der Aktion wird gebaut und am Folgetag\, wenn der Kleister trocken ist\, wird alles angemalt.
URL;VALUE=URI:https://www.unser-ferienprogramm.de/langenhagen/veranstaltung.php?id=298961
SUMMARY:Pappmaché 2
DTSTART;TZID=Europe/Berlin:20260331T100000
END:VEVENT


BEGIN:VEVENT
DTEND;TZID=Europe/Berlin:20260401T140000
UID:69e5f01064f631
DTSTAMP:20260420T112120
LOCATION:Brinker Atelier\, Fuhrenkamp 17\, 30851 Langenhagen
DESCRIPTION:In dieser matschigen Osterferienaktion arbeiten wir mit Kleister\, Pappe und Papier. Du modelliest einen Osterhasen als größere Figur\, kleine Anhänger aus Pappe\, oder ein Häschen mit beweglichen Gliedern. Je nachdem wieviel Zeit noch übrig ist\, kann noch ein 3D-Hasenbild aus Eierkarton gestaltet oder ein Wackelhase gebaut werden.                                                                                                      Am ersten Tag der Aktion wird gebaut und am Folgetag\, wenn der Kleister trocken ist\, wird alles angemalt.
URL;VALUE=URI:https://www.unser-ferienprogramm.de/langenhagen/veranstaltung.php?id=298961
SUMMARY:Pappmaché 2
DTSTART;TZID=Europe/Berlin:20260401T100000
END:VEVENT

END:VCALENDAR
