BEGIN:VCALENDAR
VERSION:2.0
PRODID:-//hacksw/handcal//NONSGML v1.0//EN
CALSCALE:GREGORIAN
BEGIN:VTIMEZONE
TZID:Europe/Berlin
X-LIC-LOCATION:Europe/Berlin
BEGIN:DAYLIGHT
TZOFFSETFROM:+0100
TZOFFSETTO:+0200
TZNAME:CEST
DTSTART:19700329T020000
RRULE:FREQ=YEARLY;BYDAY=-1SU;BYMONTH=3
END:DAYLIGHT
BEGIN:STANDARD
TZOFFSETFROM:+0200
TZOFFSETTO:+0100
TZNAME:CET
DTSTART:19701025T030000
RRULE:FREQ=YEARLY;BYDAY=-1SU;BYMONTH=10
END:STANDARD
END:VTIMEZONE
BEGIN:VEVENT
DTEND;TZID=Europe/Berlin:20260330T150000
UID:69e6057b3a73b
DTSTAMP:20260420T125243
LOCATION:Reitstall an der Eilenriede\, Lindemannallee 27\, 30173 Hannover - Alte Bult
DESCRIPTION:In diesen zwei Tagen bekommst du eine Stallführung durch den 'Reitstall an der Eilenriede'.\r\nDu lernst\, was ein Pony alles braucht\, darfst Stallarbeit ausprobieren\, Ponys putzen und natürlich darf auch etwas Theorie zum guten Umgang mit den Ponys nicht fehlen. Wenn die Ponys möchten\, darfst du am letzten Tag noch ein geführtes Ponyreiten erleben.
URL;VALUE=URI:https://www.unser-ferienprogramm.de/langenhagen/veranstaltung.php?id=298947
SUMMARY:"Was braucht eigentlich ein Pony?" Osterferien
DTSTART;TZID=Europe/Berlin:20260330T110000
END:VEVENT


BEGIN:VEVENT
DTEND;TZID=Europe/Berlin:20260331T150000
UID:69e6057b3a7551
DTSTAMP:20260420T125243
LOCATION:Reitstall an der Eilenriede\, Lindemannallee 27\, 30173 Hannover - Alte Bult
DESCRIPTION:In diesen zwei Tagen bekommst du eine Stallführung durch den 'Reitstall an der Eilenriede'.\r\nDu lernst\, was ein Pony alles braucht\, darfst Stallarbeit ausprobieren\, Ponys putzen und natürlich darf auch etwas Theorie zum guten Umgang mit den Ponys nicht fehlen. Wenn die Ponys möchten\, darfst du am letzten Tag noch ein geführtes Ponyreiten erleben.
URL;VALUE=URI:https://www.unser-ferienprogramm.de/langenhagen/veranstaltung.php?id=298947
SUMMARY:"Was braucht eigentlich ein Pony?" Osterferien
DTSTART;TZID=Europe/Berlin:20260331T110000
END:VEVENT

END:VCALENDAR
