BEGIN:VCALENDAR
VERSION:2.0
PRODID:-//hacksw/handcal//NONSGML v1.0//EN
CALSCALE:GREGORIAN
BEGIN:VTIMEZONE
TZID:Europe/Berlin
X-LIC-LOCATION:Europe/Berlin
BEGIN:DAYLIGHT
TZOFFSETFROM:+0100
TZOFFSETTO:+0200
TZNAME:CEST
DTSTART:19700329T020000
RRULE:FREQ=YEARLY;BYDAY=-1SU;BYMONTH=3
END:DAYLIGHT
BEGIN:STANDARD
TZOFFSETFROM:+0200
TZOFFSETTO:+0100
TZNAME:CET
DTSTART:19701025T030000
RRULE:FREQ=YEARLY;BYDAY=-1SU;BYMONTH=10
END:STANDARD
END:VTIMEZONE
BEGIN:VEVENT
DTEND;TZID=Europe/Berlin:20260327T130000
UID:69e5ef39b7736
DTSTAMP:20260420T111745
LOCATION:Haus der Jugend\, Langenforther Platz 1\, 30851 Langenhagen
DESCRIPTION:Eine einfache Murmelbahn zu bauen ist für Profis nicht besonders schwer. Aber wenn sie auch noch über einen Aufzug verfügen soll\, dann ist es eine echte Herausforderung. \r\nDas fertige Spielzeug sieht sicher hübsch in deinem Zimmer aus\, … und spielen kann man damit auch hervorragend.\r\nFür dieses Angebot braucht man schon etwas Übung und Freude am Werkeln.\r\n
URL;VALUE=URI:https://www.unser-ferienprogramm.de/langenhagen/veranstaltung.php?id=298909
SUMMARY:Wir bauen eine Murmelbahn mit Aufzug
DTSTART;TZID=Europe/Berlin:20260327T100000
END:VEVENT


BEGIN:VEVENT
DTEND;TZID=Europe/Berlin:20260330T130000
UID:69e5ef39b77761
DTSTAMP:20260420T111745
LOCATION:Haus der Jugend\, Langenforther Platz 1\, 30851 Langenhagen
DESCRIPTION:Eine einfache Murmelbahn zu bauen ist für Profis nicht besonders schwer. Aber wenn sie auch noch über einen Aufzug verfügen soll\, dann ist es eine echte Herausforderung. \r\nDas fertige Spielzeug sieht sicher hübsch in deinem Zimmer aus\, … und spielen kann man damit auch hervorragend.\r\nFür dieses Angebot braucht man schon etwas Übung und Freude am Werkeln.\r\n
URL;VALUE=URI:https://www.unser-ferienprogramm.de/langenhagen/veranstaltung.php?id=298909
SUMMARY:Wir bauen eine Murmelbahn mit Aufzug
DTSTART;TZID=Europe/Berlin:20260330T100000
END:VEVENT

END:VCALENDAR
