BEGIN:VCALENDAR
VERSION:2.0
PRODID:-//hacksw/handcal//NONSGML v1.0//EN
CALSCALE:GREGORIAN
BEGIN:VTIMEZONE
TZID:Europe/Berlin
X-LIC-LOCATION:Europe/Berlin
BEGIN:DAYLIGHT
TZOFFSETFROM:+0100
TZOFFSETTO:+0200
TZNAME:CEST
DTSTART:19700329T020000
RRULE:FREQ=YEARLY;BYDAY=-1SU;BYMONTH=3
END:DAYLIGHT
BEGIN:STANDARD
TZOFFSETFROM:+0200
TZOFFSETTO:+0100
TZNAME:CET
DTSTART:19701025T030000
RRULE:FREQ=YEARLY;BYDAY=-1SU;BYMONTH=10
END:STANDARD
END:VTIMEZONE
BEGIN:VEVENT
DTEND;TZID=Europe/Berlin:20260325T130000
UID:69e6056970128
DTSTAMP:20260420T125225
LOCATION:Haus der Jugend\, Langenforther Platz 1\, 30851 Langenhagen
DESCRIPTION:In jedem Jahr bauen wir im Haus der Jugend Nistkästen\, in jedem Jahr ist es nötig. Bitte hilf mit\, den Vögeln eine Nistgelegenheit zu bieten. Es wird ein klassischer Nistkasten und ein Nistbrett für die „Nischenbrüter“ unter den Vögeln gebaut. Selbstverständlich darfst du deinen Kasten mit nach Hause nehmen und ihn dort aufhängen.
URL;VALUE=URI:https://www.unser-ferienprogramm.de/langenhagen/veranstaltung.php?id=298907
SUMMARY:Nistkasten für Vögel
DTSTART;TZID=Europe/Berlin:20260325T100000
END:VEVENT


BEGIN:VEVENT
DTEND;TZID=Europe/Berlin:20260326T130000
UID:69e60569701561
DTSTAMP:20260420T125225
LOCATION:Haus der Jugend\, Langenforther Platz 1\, 30851 Langenhagen
DESCRIPTION:In jedem Jahr bauen wir im Haus der Jugend Nistkästen\, in jedem Jahr ist es nötig. Bitte hilf mit\, den Vögeln eine Nistgelegenheit zu bieten. Es wird ein klassischer Nistkasten und ein Nistbrett für die „Nischenbrüter“ unter den Vögeln gebaut. Selbstverständlich darfst du deinen Kasten mit nach Hause nehmen und ihn dort aufhängen.
URL;VALUE=URI:https://www.unser-ferienprogramm.de/langenhagen/veranstaltung.php?id=298907
SUMMARY:Nistkasten für Vögel
DTSTART;TZID=Europe/Berlin:20260326T100000
END:VEVENT

END:VCALENDAR
