BEGIN:VCALENDAR
VERSION:2.0
PRODID:-//hacksw/handcal//NONSGML v1.0//EN
CALSCALE:GREGORIAN
BEGIN:VTIMEZONE
TZID:Europe/Berlin
X-LIC-LOCATION:Europe/Berlin
BEGIN:DAYLIGHT
TZOFFSETFROM:+0100
TZOFFSETTO:+0200
TZNAME:CEST
DTSTART:19700329T020000
RRULE:FREQ=YEARLY;BYDAY=-1SU;BYMONTH=3
END:DAYLIGHT
BEGIN:STANDARD
TZOFFSETFROM:+0200
TZOFFSETTO:+0100
TZNAME:CET
DTSTART:19701025T030000
RRULE:FREQ=YEARLY;BYDAY=-1SU;BYMONTH=10
END:STANDARD
END:VTIMEZONE
BEGIN:VEVENT
DTEND;TZID=Europe/Berlin:20260323T130000
UID:69e5efdee53d4
DTSTAMP:20260420T112030
LOCATION:Haus der Jugend\, Langenforther Platz 1\, 30851 Langenhagen
DESCRIPTION:Aus Sperrholz wird ein Osterhase als dekorativer Frühstückseierhalter gesägt. Wenn noch Zeit ist\, sägen und basteln wir weitere Dekorationen aus Sperrholz zu Ostern. \r\nGrundkenntnisse im Laubsägen sollten vorhanden sein!\r\n
URL;VALUE=URI:https://www.unser-ferienprogramm.de/langenhagen/veranstaltung.php?id=298905
SUMMARY:Osterhasen und Co.
DTSTART;TZID=Europe/Berlin:20260323T100000
END:VEVENT


BEGIN:VEVENT
DTEND;TZID=Europe/Berlin:20260324T130000
UID:69e5efdee54101
DTSTAMP:20260420T112030
LOCATION:Haus der Jugend\, Langenforther Platz 1\, 30851 Langenhagen
DESCRIPTION:Aus Sperrholz wird ein Osterhase als dekorativer Frühstückseierhalter gesägt. Wenn noch Zeit ist\, sägen und basteln wir weitere Dekorationen aus Sperrholz zu Ostern. \r\nGrundkenntnisse im Laubsägen sollten vorhanden sein!\r\n
URL;VALUE=URI:https://www.unser-ferienprogramm.de/langenhagen/veranstaltung.php?id=298905
SUMMARY:Osterhasen und Co.
DTSTART;TZID=Europe/Berlin:20260324T100000
END:VEVENT

END:VCALENDAR
