BEGIN:VCALENDAR
VERSION:2.0
PRODID:-//hacksw/handcal//NONSGML v1.0//EN
CALSCALE:GREGORIAN
BEGIN:VTIMEZONE
TZID:Europe/Berlin
X-LIC-LOCATION:Europe/Berlin
BEGIN:DAYLIGHT
TZOFFSETFROM:+0100
TZOFFSETTO:+0200
TZNAME:CEST
DTSTART:19700329T020000
RRULE:FREQ=YEARLY;BYDAY=-1SU;BYMONTH=3
END:DAYLIGHT
BEGIN:STANDARD
TZOFFSETFROM:+0200
TZOFFSETTO:+0100
TZNAME:CET
DTSTART:19701025T030000
RRULE:FREQ=YEARLY;BYDAY=-1SU;BYMONTH=10
END:STANDARD
END:VTIMEZONE
BEGIN:VEVENT
DTEND;TZID=Europe/Berlin:20260324T150000
UID:69e5efa44429f
DTSTAMP:20260420T111932
LOCATION:Haus der Jugend\, Langenforther Platz 1\, 30851 Langenhagen
DESCRIPTION:In diesem dreitägigen Projekt tauchen wir in die Welt der digitalen  Spiele ein und werden selbst zu Spiel-Entwicklerinnen und Entwicklern. Gemeinsam entstehen eigene kleine Mini-Games\, interaktive Geschichten und ein Jump-and-Run Spiel – kreativ\, spielerisch und ohne Vorkenntnisse. \r\nWir planen Spielideen\, tüfteln an Levels\, erzählen Geschichten und werden kreativ Merchandise basteln. Schritt für Schritt entsteht so ein eigenes Spiel. Am Freitagabend planen wir einen Ausflug. Infos dazu folgen.\r\n\r\n
URL;VALUE=URI:https://www.unser-ferienprogramm.de/langenhagen/veranstaltung.php?id=298769
SUMMARY:GAME DESIGN Schnupperkurs
DTSTART;TZID=Europe/Berlin:20260324T100000
END:VEVENT


BEGIN:VEVENT
DTEND;TZID=Europe/Berlin:20260325T150000
UID:69e5efa4442de1
DTSTAMP:20260420T111932
LOCATION:Haus der Jugend\, Langenforther Platz 1\, 30851 Langenhagen
DESCRIPTION:In diesem dreitägigen Projekt tauchen wir in die Welt der digitalen  Spiele ein und werden selbst zu Spiel-Entwicklerinnen und Entwicklern. Gemeinsam entstehen eigene kleine Mini-Games\, interaktive Geschichten und ein Jump-and-Run Spiel – kreativ\, spielerisch und ohne Vorkenntnisse. \r\nWir planen Spielideen\, tüfteln an Levels\, erzählen Geschichten und werden kreativ Merchandise basteln. Schritt für Schritt entsteht so ein eigenes Spiel. Am Freitagabend planen wir einen Ausflug. Infos dazu folgen.\r\n\r\n
URL;VALUE=URI:https://www.unser-ferienprogramm.de/langenhagen/veranstaltung.php?id=298769
SUMMARY:GAME DESIGN Schnupperkurs
DTSTART;TZID=Europe/Berlin:20260325T100000
END:VEVENT


BEGIN:VEVENT
DTEND;TZID=Europe/Berlin:20260326T150000
UID:69e5efa4442ec2
DTSTAMP:20260420T111932
LOCATION:Haus der Jugend\, Langenforther Platz 1\, 30851 Langenhagen
DESCRIPTION:In diesem dreitägigen Projekt tauchen wir in die Welt der digitalen  Spiele ein und werden selbst zu Spiel-Entwicklerinnen und Entwicklern. Gemeinsam entstehen eigene kleine Mini-Games\, interaktive Geschichten und ein Jump-and-Run Spiel – kreativ\, spielerisch und ohne Vorkenntnisse. \r\nWir planen Spielideen\, tüfteln an Levels\, erzählen Geschichten und werden kreativ Merchandise basteln. Schritt für Schritt entsteht so ein eigenes Spiel. Am Freitagabend planen wir einen Ausflug. Infos dazu folgen.\r\n\r\n
URL;VALUE=URI:https://www.unser-ferienprogramm.de/langenhagen/veranstaltung.php?id=298769
SUMMARY:GAME DESIGN Schnupperkurs
DTSTART;TZID=Europe/Berlin:20260326T100000
END:VEVENT


BEGIN:VEVENT
DTEND;TZID=Europe/Berlin:20260327T204500
UID:69e5efa4442f73
DTSTAMP:20260420T111932
LOCATION:Haus der Jugend\, Langenforther Platz 1\, 30851 Langenhagen
DESCRIPTION:In diesem dreitägigen Projekt tauchen wir in die Welt der digitalen  Spiele ein und werden selbst zu Spiel-Entwicklerinnen und Entwicklern. Gemeinsam entstehen eigene kleine Mini-Games\, interaktive Geschichten und ein Jump-and-Run Spiel – kreativ\, spielerisch und ohne Vorkenntnisse. \r\nWir planen Spielideen\, tüfteln an Levels\, erzählen Geschichten und werden kreativ Merchandise basteln. Schritt für Schritt entsteht so ein eigenes Spiel. Am Freitagabend planen wir einen Ausflug. Infos dazu folgen.\r\n\r\n
URL;VALUE=URI:https://www.unser-ferienprogramm.de/langenhagen/veranstaltung.php?id=298769
SUMMARY:GAME DESIGN Schnupperkurs
DTSTART;TZID=Europe/Berlin:20260327T150000
END:VEVENT

END:VCALENDAR
