BEGIN:VCALENDAR
VERSION:2.0
PRODID:-//hacksw/handcal//NONSGML v1.0//EN
CALSCALE:GREGORIAN
BEGIN:VTIMEZONE
TZID:Europe/Berlin
X-LIC-LOCATION:Europe/Berlin
BEGIN:DAYLIGHT
TZOFFSETFROM:+0100
TZOFFSETTO:+0200
TZNAME:CEST
DTSTART:19700329T020000
RRULE:FREQ=YEARLY;BYDAY=-1SU;BYMONTH=3
END:DAYLIGHT
BEGIN:STANDARD
TZOFFSETFROM:+0200
TZOFFSETTO:+0100
TZNAME:CET
DTSTART:19701025T030000
RRULE:FREQ=YEARLY;BYDAY=-1SU;BYMONTH=10
END:STANDARD
END:VTIMEZONE
BEGIN:VEVENT
DTEND;TZID=Europe/Berlin:20260327T130000
UID:69e5f3feb5c7b
DTSTAMP:20260420T113806
LOCATION:Tierheim\, Everhorster Str. 80\, 30855 Langenhagen
DESCRIPTION:Welche Tiere leben gerade im Kleintierhaus vom Tierheim? Sind neben den Kaninchen auch  Meerschweinchen\, Ratten\, Hamster oder Osterhasen da? Der Sache gehen wir auf den Grund und gucken nach. Außerdem wollen wir gemeinsam etwas für die Tiere herstellen und in die Gehege bringen\, um sie zu beschäftigen.
URL;VALUE=URI:https://www.unser-ferienprogramm.de/langenhagen/veranstaltung.php?id=298768
SUMMARY:Was ist los im Kleintierhaus?
DTSTART;TZID=Europe/Berlin:20260327T100000
END:VEVENT

END:VCALENDAR
