BEGIN:VCALENDAR
VERSION:2.0
PRODID:-//hacksw/handcal//NONSGML v1.0//EN
CALSCALE:GREGORIAN
BEGIN:VTIMEZONE
TZID:Europe/Berlin
X-LIC-LOCATION:Europe/Berlin
BEGIN:DAYLIGHT
TZOFFSETFROM:+0100
TZOFFSETTO:+0200
TZNAME:CEST
DTSTART:19700329T020000
RRULE:FREQ=YEARLY;BYDAY=-1SU;BYMONTH=3
END:DAYLIGHT
BEGIN:STANDARD
TZOFFSETFROM:+0200
TZOFFSETTO:+0100
TZNAME:CET
DTSTART:19701025T030000
RRULE:FREQ=YEARLY;BYDAY=-1SU;BYMONTH=10
END:STANDARD
END:VTIMEZONE
BEGIN:VEVENT
DTEND;TZID=Europe/Berlin:20260324T150000
UID:69e60603ebb13
DTSTAMP:20260420T125459
LOCATION:Jugendtreff Engelbostel/Schulenburg\, Amtsweg 1\, 30855 Langenhagen
DESCRIPTION:Was machen wir?\r\nWir gehen zusammen los und entdecken Orte\, die euch wichtig sind. Vielleicht gibt es Plätze\, die du noch nicht kennst. Welche Orte findest du toll? Was fehlt an dir an manchen Orten? Wir wollen gute Orte nutzen und nicht so gute Orte besser machen und daher gemeinsam eine spaßige und aktive Rallye durch Engelbostel/Schulenburg entwickeln.\r\n\r\nAm Ende überlegen wir: Wie können andere Kinder eure Rallye spielen und auch ihre Ideen einbringen?\r\nMach mit wenn du Lust auf Rätseln und Spielen hast und gerne draußen unterwegs bist!\r\n\r\nAm letzten Tag wollen wir die Rallye spielen und zusammen picknicken oder Pizza backen. Ihr entscheidet mit.
URL;VALUE=URI:https://www.unser-ferienprogramm.de/langenhagen/veranstaltung.php?id=298746
SUMMARY:Eure Rallye für Engelbostel/Schulenburg
DTSTART;TZID=Europe/Berlin:20260324T100000
END:VEVENT


BEGIN:VEVENT
DTEND;TZID=Europe/Berlin:20260325T150000
UID:69e60603ebb571
DTSTAMP:20260420T125459
LOCATION:Jugendtreff Engelbostel/Schulenburg\, Amtsweg 1\, 30855 Langenhagen
DESCRIPTION:Was machen wir?\r\nWir gehen zusammen los und entdecken Orte\, die euch wichtig sind. Vielleicht gibt es Plätze\, die du noch nicht kennst. Welche Orte findest du toll? Was fehlt an dir an manchen Orten? Wir wollen gute Orte nutzen und nicht so gute Orte besser machen und daher gemeinsam eine spaßige und aktive Rallye durch Engelbostel/Schulenburg entwickeln.\r\n\r\nAm Ende überlegen wir: Wie können andere Kinder eure Rallye spielen und auch ihre Ideen einbringen?\r\nMach mit wenn du Lust auf Rätseln und Spielen hast und gerne draußen unterwegs bist!\r\n\r\nAm letzten Tag wollen wir die Rallye spielen und zusammen picknicken oder Pizza backen. Ihr entscheidet mit.
URL;VALUE=URI:https://www.unser-ferienprogramm.de/langenhagen/veranstaltung.php?id=298746
SUMMARY:Eure Rallye für Engelbostel/Schulenburg
DTSTART;TZID=Europe/Berlin:20260325T100000
END:VEVENT


BEGIN:VEVENT
DTEND;TZID=Europe/Berlin:20260326T150000
UID:69e60603ebb682
DTSTAMP:20260420T125459
LOCATION:Jugendtreff Engelbostel/Schulenburg\, Amtsweg 1\, 30855 Langenhagen
DESCRIPTION:Was machen wir?\r\nWir gehen zusammen los und entdecken Orte\, die euch wichtig sind. Vielleicht gibt es Plätze\, die du noch nicht kennst. Welche Orte findest du toll? Was fehlt an dir an manchen Orten? Wir wollen gute Orte nutzen und nicht so gute Orte besser machen und daher gemeinsam eine spaßige und aktive Rallye durch Engelbostel/Schulenburg entwickeln.\r\n\r\nAm Ende überlegen wir: Wie können andere Kinder eure Rallye spielen und auch ihre Ideen einbringen?\r\nMach mit wenn du Lust auf Rätseln und Spielen hast und gerne draußen unterwegs bist!\r\n\r\nAm letzten Tag wollen wir die Rallye spielen und zusammen picknicken oder Pizza backen. Ihr entscheidet mit.
URL;VALUE=URI:https://www.unser-ferienprogramm.de/langenhagen/veranstaltung.php?id=298746
SUMMARY:Eure Rallye für Engelbostel/Schulenburg
DTSTART;TZID=Europe/Berlin:20260326T100000
END:VEVENT

END:VCALENDAR
