BEGIN:VCALENDAR
VERSION:2.0
PRODID:-//hacksw/handcal//NONSGML v1.0//EN
CALSCALE:GREGORIAN
BEGIN:VTIMEZONE
TZID:Europe/Berlin
X-LIC-LOCATION:Europe/Berlin
BEGIN:DAYLIGHT
TZOFFSETFROM:+0100
TZOFFSETTO:+0200
TZNAME:CEST
DTSTART:19700329T020000
RRULE:FREQ=YEARLY;BYDAY=-1SU;BYMONTH=3
END:DAYLIGHT
BEGIN:STANDARD
TZOFFSETFROM:+0200
TZOFFSETTO:+0100
TZNAME:CET
DTSTART:19701025T030000
RRULE:FREQ=YEARLY;BYDAY=-1SU;BYMONTH=10
END:STANDARD
END:VTIMEZONE
BEGIN:VEVENT
DTEND;TZID=Europe/Berlin:20260331T133000
UID:69e5f005646d8
DTSTAMP:20260420T112109
LOCATION:Haus der Jugend\, Langenforther Platz 1\, 30851 Langenhagen
DESCRIPTION:Hast du Lust auf ein Buch\, das nur dir gehört – und das du ganz nach deinen Vorstellungen füllen kannst? Dann bist du in hier genau richtig!\r\n\r\nGemeinsam gestalten wir dein ganz persönliches Buch: mit Stiften\, Stickern\, buntem Papier\, Tapes und jeder Menge Ideen. Du kannst darin schreiben\, zeichnen\, planen\, kleben\, malen oder einfach nur ausprobieren.\r\nWir zeigen dir verschiedene Möglichkeiten\, wie du ein kreatives Tagebuch führen oder dein eigenes Bullet Journal gestalten kannst – ein Buch\, das dir hilft\, den Überblick über deinen Alltag zu behalten\, Gedanken zu sortieren oder Erinnerungen festzuhalten. Es kann dir helfen\, bewusster mit dir selbst umzugehen\, achtsam zu sein und dir kleine Auszeiten im Alltag zu schaffen.\r\nDein Buch kann ein Ort für Erinnerungen und Gedanken werden\, ein Planer oder einfach dein kreativer Rückzugsort. Mach dein Buch zu deinem Lieblingsplatz auf Papier!\r\nAn zwei Tagen nehmen wir uns gemeinsam Zeit für dich und dein individuelles Buch. \r\nAlles ist erlaubt – Hauptsache\, es passt zu dir.\r\n
URL;VALUE=URI:https://www.unser-ferienprogramm.de/langenhagen/veranstaltung.php?id=298592
SUMMARY:Mein-Buch-nur-für-mich
DTSTART;TZID=Europe/Berlin:20260331T093000
END:VEVENT


BEGIN:VEVENT
DTEND;TZID=Europe/Berlin:20260402T133000
UID:69e5f0056471e1
DTSTAMP:20260420T112109
LOCATION:Haus der Jugend\, Langenforther Platz 1\, 30851 Langenhagen
DESCRIPTION:Hast du Lust auf ein Buch\, das nur dir gehört – und das du ganz nach deinen Vorstellungen füllen kannst? Dann bist du in hier genau richtig!\r\n\r\nGemeinsam gestalten wir dein ganz persönliches Buch: mit Stiften\, Stickern\, buntem Papier\, Tapes und jeder Menge Ideen. Du kannst darin schreiben\, zeichnen\, planen\, kleben\, malen oder einfach nur ausprobieren.\r\nWir zeigen dir verschiedene Möglichkeiten\, wie du ein kreatives Tagebuch führen oder dein eigenes Bullet Journal gestalten kannst – ein Buch\, das dir hilft\, den Überblick über deinen Alltag zu behalten\, Gedanken zu sortieren oder Erinnerungen festzuhalten. Es kann dir helfen\, bewusster mit dir selbst umzugehen\, achtsam zu sein und dir kleine Auszeiten im Alltag zu schaffen.\r\nDein Buch kann ein Ort für Erinnerungen und Gedanken werden\, ein Planer oder einfach dein kreativer Rückzugsort. Mach dein Buch zu deinem Lieblingsplatz auf Papier!\r\nAn zwei Tagen nehmen wir uns gemeinsam Zeit für dich und dein individuelles Buch. \r\nAlles ist erlaubt – Hauptsache\, es passt zu dir.\r\n
URL;VALUE=URI:https://www.unser-ferienprogramm.de/langenhagen/veranstaltung.php?id=298592
SUMMARY:Mein-Buch-nur-für-mich
DTSTART;TZID=Europe/Berlin:20260402T093000
END:VEVENT

END:VCALENDAR
