BEGIN:VCALENDAR
VERSION:2.0
PRODID:-//hacksw/handcal//NONSGML v1.0//EN
CALSCALE:GREGORIAN
BEGIN:VTIMEZONE
TZID:Europe/Berlin
X-LIC-LOCATION:Europe/Berlin
BEGIN:DAYLIGHT
TZOFFSETFROM:+0100
TZOFFSETTO:+0200
TZNAME:CEST
DTSTART:19700329T020000
RRULE:FREQ=YEARLY;BYDAY=-1SU;BYMONTH=3
END:DAYLIGHT
BEGIN:STANDARD
TZOFFSETFROM:+0200
TZOFFSETTO:+0100
TZNAME:CET
DTSTART:19701025T030000
RRULE:FREQ=YEARLY;BYDAY=-1SU;BYMONTH=10
END:STANDARD
END:VTIMEZONE
BEGIN:VEVENT
DTEND;TZID=Europe/Berlin:20260331T130000
UID:69e5f0f3c2756
DTSTAMP:20260420T112507
LOCATION:Haus der Jugend\, Langenforther Platz 1\, 30851 Langenhagen
DESCRIPTION:Du wolltest schon immer mal an unserer Kletterwand klettern? Du bist zwischen 6 und 12 Jahren? Dann komm` einfach vorbei\, ohne Anmeldung. Wir machen in den Osterferien unsere Kletterwand am Haus der Jugend für dich auf. Natürlich wirst du von einem erfahrenen Team gesichert!\r\n\r\n\r\n
URL;VALUE=URI:https://www.unser-ferienprogramm.de/langenhagen/veranstaltung.php?id=298391
SUMMARY:Offene Kletterwand in den Osterferien für 6-12 Jährige
DTSTART;TZID=Europe/Berlin:20260331T100000
END:VEVENT

END:VCALENDAR
