BEGIN:VCALENDAR
VERSION:2.0
PRODID:-//hacksw/handcal//NONSGML v1.0//EN
CALSCALE:GREGORIAN
BEGIN:VTIMEZONE
TZID:Europe/Berlin
X-LIC-LOCATION:Europe/Berlin
BEGIN:DAYLIGHT
TZOFFSETFROM:+0100
TZOFFSETTO:+0200
TZNAME:CEST
DTSTART:19700329T020000
RRULE:FREQ=YEARLY;BYDAY=-1SU;BYMONTH=3
END:DAYLIGHT
BEGIN:STANDARD
TZOFFSETFROM:+0200
TZOFFSETTO:+0100
TZNAME:CET
DTSTART:19701025T030000
RRULE:FREQ=YEARLY;BYDAY=-1SU;BYMONTH=10
END:STANDARD
END:VTIMEZONE
BEGIN:VEVENT
DTEND;TZID=Europe/Berlin:20260324T130000
UID:69e5f03507f5c
DTSTAMP:20260420T112157
LOCATION:Haus der Jugend\, Langenforther Platz 1\, 30851 Langenhagen
DESCRIPTION:Wir wollen die Frühlingssonne einfangen und in viele kleine Lichtpunkte verwandeln\, die durch dein Zimmer tanzen. Hierfür verwenden wir kleine funkelnde Kristalle\, Perlen und Bänder. Den fertigen Lichtfänger kannst du dir ins Fenster hängen\, damit er die Sonnenstrahlen einfängt.
URL;VALUE=URI:https://www.unser-ferienprogramm.de/langenhagen/veranstaltung.php?id=298277
SUMMARY:Sonnenfänger
DTSTART;TZID=Europe/Berlin:20260324T110000
END:VEVENT

END:VCALENDAR
