BEGIN:VCALENDAR
VERSION:2.0
PRODID:-//hacksw/handcal//NONSGML v1.0//EN
CALSCALE:GREGORIAN
BEGIN:VTIMEZONE
TZID:Europe/Berlin
X-LIC-LOCATION:Europe/Berlin
BEGIN:DAYLIGHT
TZOFFSETFROM:+0100
TZOFFSETTO:+0200
TZNAME:CEST
DTSTART:19700329T020000
RRULE:FREQ=YEARLY;BYDAY=-1SU;BYMONTH=3
END:DAYLIGHT
BEGIN:STANDARD
TZOFFSETFROM:+0200
TZOFFSETTO:+0100
TZNAME:CET
DTSTART:19701025T030000
RRULE:FREQ=YEARLY;BYDAY=-1SU;BYMONTH=10
END:STANDARD
END:VTIMEZONE
BEGIN:VEVENT
DTEND;TZID=Europe/Berlin:20260331T130000
UID:69e5f0058d769
DTSTAMP:20260420T112109
LOCATION:Haus der Jugend\, Langenforther Platz 1\, 30851 Langenhagen
DESCRIPTION:Wenn du noch nie mit einer Nähmaschine genäht hast und gerne wissen möchtest\, wie das geht\, dann melde dich zu diesem Einführungskurs an. Du wirst die wichtigsten Funktionen einer Nähmaschine und den Umgang damit kennenlernen. Dazu gehört das Einfädeln\, das Aufspulen von Nähgarn\, verschiedene Sticharten und wozu diese gebraucht werden. Anhand von kleinen Übungsaufgaben wirst du schnell merken\, wie viel Spaß das Nähen mit der Maschine macht. \r\nZum Schluss werden wir ein kleines Teil nähen und dabei das Erlernte ausprobieren.
URL;VALUE=URI:https://www.unser-ferienprogramm.de/langenhagen/veranstaltung.php?id=298265
SUMMARY:Erstes Nähen mit der Nähmaschine
DTSTART;TZID=Europe/Berlin:20260331T100000
END:VEVENT

END:VCALENDAR
