BEGIN:VCALENDAR
VERSION:2.0
PRODID:-//hacksw/handcal//NONSGML v1.0//EN
CALSCALE:GREGORIAN
BEGIN:VTIMEZONE
TZID:Europe/Berlin
X-LIC-LOCATION:Europe/Berlin
BEGIN:DAYLIGHT
TZOFFSETFROM:+0100
TZOFFSETTO:+0200
TZNAME:CEST
DTSTART:19700329T020000
RRULE:FREQ=YEARLY;BYDAY=-1SU;BYMONTH=3
END:DAYLIGHT
BEGIN:STANDARD
TZOFFSETFROM:+0200
TZOFFSETTO:+0100
TZNAME:CET
DTSTART:19701025T030000
RRULE:FREQ=YEARLY;BYDAY=-1SU;BYMONTH=10
END:STANDARD
END:VTIMEZONE
BEGIN:VEVENT
DTEND;TZID=Europe/Berlin:20260330T130000
UID:69e5f00e04706
DTSTAMP:20260420T112118
LOCATION:Haus der Jugend\, Langenforther Platz 1\, 30851 Langenhagen
DESCRIPTION:An diesen vier Tagen kannst du ganz kreativ werden. Mithilfe verschiedener Techniken wirst du dein eigenes Bilderbuch schreiben und gestalten. Wer nicht gerne malt oder zeichnet\, kann Bilder aus Zeitschriften oder auch Sticker benutzen. Am Ende könnt ihr eure liebsten Menschen zu einer Präsentation eures ganz eigenen Bilderbuchs einladen.
URL;VALUE=URI:https://www.unser-ferienprogramm.de/langenhagen/veranstaltung.php?id=297794
SUMMARY:Bilderbuch – Mal selbst gemacht
DTSTART;TZID=Europe/Berlin:20260330T090000
END:VEVENT


BEGIN:VEVENT
DTEND;TZID=Europe/Berlin:20260331T130000
UID:69e5f00e0471e1
DTSTAMP:20260420T112118
LOCATION:Haus der Jugend\, Langenforther Platz 1\, 30851 Langenhagen
DESCRIPTION:An diesen vier Tagen kannst du ganz kreativ werden. Mithilfe verschiedener Techniken wirst du dein eigenes Bilderbuch schreiben und gestalten. Wer nicht gerne malt oder zeichnet\, kann Bilder aus Zeitschriften oder auch Sticker benutzen. Am Ende könnt ihr eure liebsten Menschen zu einer Präsentation eures ganz eigenen Bilderbuchs einladen.
URL;VALUE=URI:https://www.unser-ferienprogramm.de/langenhagen/veranstaltung.php?id=297794
SUMMARY:Bilderbuch – Mal selbst gemacht
DTSTART;TZID=Europe/Berlin:20260331T090000
END:VEVENT


BEGIN:VEVENT
DTEND;TZID=Europe/Berlin:20260401T130000
UID:69e5f00e0472c2
DTSTAMP:20260420T112118
LOCATION:Haus der Jugend\, Langenforther Platz 1\, 30851 Langenhagen
DESCRIPTION:An diesen vier Tagen kannst du ganz kreativ werden. Mithilfe verschiedener Techniken wirst du dein eigenes Bilderbuch schreiben und gestalten. Wer nicht gerne malt oder zeichnet\, kann Bilder aus Zeitschriften oder auch Sticker benutzen. Am Ende könnt ihr eure liebsten Menschen zu einer Präsentation eures ganz eigenen Bilderbuchs einladen.
URL;VALUE=URI:https://www.unser-ferienprogramm.de/langenhagen/veranstaltung.php?id=297794
SUMMARY:Bilderbuch – Mal selbst gemacht
DTSTART;TZID=Europe/Berlin:20260401T090000
END:VEVENT


BEGIN:VEVENT
DTEND;TZID=Europe/Berlin:20260402T130000
UID:69e5f00e047373
DTSTAMP:20260420T112118
LOCATION:Haus der Jugend\, Langenforther Platz 1\, 30851 Langenhagen
DESCRIPTION:An diesen vier Tagen kannst du ganz kreativ werden. Mithilfe verschiedener Techniken wirst du dein eigenes Bilderbuch schreiben und gestalten. Wer nicht gerne malt oder zeichnet\, kann Bilder aus Zeitschriften oder auch Sticker benutzen. Am Ende könnt ihr eure liebsten Menschen zu einer Präsentation eures ganz eigenen Bilderbuchs einladen.
URL;VALUE=URI:https://www.unser-ferienprogramm.de/langenhagen/veranstaltung.php?id=297794
SUMMARY:Bilderbuch – Mal selbst gemacht
DTSTART;TZID=Europe/Berlin:20260402T090000
END:VEVENT

END:VCALENDAR
