BEGIN:VCALENDAR
VERSION:2.0
PRODID:-//hacksw/handcal//NONSGML v1.0//EN
CALSCALE:GREGORIAN
BEGIN:VTIMEZONE
TZID:Europe/Berlin
X-LIC-LOCATION:Europe/Berlin
BEGIN:DAYLIGHT
TZOFFSETFROM:+0100
TZOFFSETTO:+0200
TZNAME:CEST
DTSTART:19700329T020000
RRULE:FREQ=YEARLY;BYDAY=-1SU;BYMONTH=3
END:DAYLIGHT
BEGIN:STANDARD
TZOFFSETFROM:+0200
TZOFFSETTO:+0100
TZNAME:CET
DTSTART:19701025T030000
RRULE:FREQ=YEARLY;BYDAY=-1SU;BYMONTH=10
END:STANDARD
END:VTIMEZONE
BEGIN:VEVENT
DTEND;TZID=Europe/Berlin:20260325T120000
UID:69e5efe153433
DTSTAMP:20260420T112033
LOCATION:Haus der Jugend\, Langenforther Platz 1\, 30851 Langenhagen
DESCRIPTION:An diesen beiden Tagen kannst du kneten\, matschen und dich ganz frei kreativ austoben. Modelliermasse ist leicht zu handhaben und macht einfach Spaß. Ob du eine kleine Schale für Schmuck\, eine Spielfigur\, eine Vase für Trockenblumen oder auch einfach etwas ganz Abstraktes modellieren möchtest. Deiner Kreativität sind keine Grenzen gesetzt.\r\nAm zweiten Tag sind die modellierten Sachen trocken und wir können sie mit Farbe bunt gestalten. \r\n
URL;VALUE=URI:https://www.unser-ferienprogramm.de/langenhagen/veranstaltung.php?id=297780
SUMMARY:Modellier Spaß
DTSTART;TZID=Europe/Berlin:20260325T100000
END:VEVENT


BEGIN:VEVENT
DTEND;TZID=Europe/Berlin:20260326T120000
UID:69e5efe1534741
DTSTAMP:20260420T112033
LOCATION:Haus der Jugend\, Langenforther Platz 1\, 30851 Langenhagen
DESCRIPTION:An diesen beiden Tagen kannst du kneten\, matschen und dich ganz frei kreativ austoben. Modelliermasse ist leicht zu handhaben und macht einfach Spaß. Ob du eine kleine Schale für Schmuck\, eine Spielfigur\, eine Vase für Trockenblumen oder auch einfach etwas ganz Abstraktes modellieren möchtest. Deiner Kreativität sind keine Grenzen gesetzt.\r\nAm zweiten Tag sind die modellierten Sachen trocken und wir können sie mit Farbe bunt gestalten. \r\n
URL;VALUE=URI:https://www.unser-ferienprogramm.de/langenhagen/veranstaltung.php?id=297780
SUMMARY:Modellier Spaß
DTSTART;TZID=Europe/Berlin:20260326T100000
END:VEVENT

END:VCALENDAR
