BEGIN:VCALENDAR
VERSION:2.0
PRODID:-//hacksw/handcal//NONSGML v1.0//EN
CALSCALE:GREGORIAN
BEGIN:VTIMEZONE
TZID:Europe/Berlin
X-LIC-LOCATION:Europe/Berlin
BEGIN:DAYLIGHT
TZOFFSETFROM:+0100
TZOFFSETTO:+0200
TZNAME:CEST
DTSTART:19700329T020000
RRULE:FREQ=YEARLY;BYDAY=-1SU;BYMONTH=3
END:DAYLIGHT
BEGIN:STANDARD
TZOFFSETFROM:+0200
TZOFFSETTO:+0100
TZNAME:CET
DTSTART:19701025T030000
RRULE:FREQ=YEARLY;BYDAY=-1SU;BYMONTH=10
END:STANDARD
END:VTIMEZONE
BEGIN:VEVENT
DTEND;TZID=Europe/Berlin:20260323T130000
UID:69e5f5aa77c7c
DTSTAMP:20260420T114514
LOCATION:Haus der Jugend\, Langenforther Platz 1\, 30851 Langenhagen
DESCRIPTION:In der kunterbunten Osterwoche wollen wir mit dir gemeinsam malen\, basteln\, gestalten und spielen. Dabei kann das ein oder andere Geschenk entstehen. Der Osterhase braucht nämlich unsere Unterstützung!\r\nAußerdem soll auch der Spaß nicht zu kurz kommen und eure eigenen Ideen sind wie immer\, herzlich willkommen. Auch stehen viele kleine Ausflüge auf dem Programm.\r\n\r\nWir freuen uns auf vier knallbunte\, lustige Tage mit euch.\r\n
URL;VALUE=URI:https://www.unser-ferienprogramm.de/langenhagen/veranstaltung.php?id=297774
SUMMARY:Kunterbunte Osterwoche
DTSTART;TZID=Europe/Berlin:20260323T090000
END:VEVENT


BEGIN:VEVENT
DTEND;TZID=Europe/Berlin:20260324T130000
UID:69e5f5aa77cc31
DTSTAMP:20260420T114514
LOCATION:Haus der Jugend\, Langenforther Platz 1\, 30851 Langenhagen
DESCRIPTION:In der kunterbunten Osterwoche wollen wir mit dir gemeinsam malen\, basteln\, gestalten und spielen. Dabei kann das ein oder andere Geschenk entstehen. Der Osterhase braucht nämlich unsere Unterstützung!\r\nAußerdem soll auch der Spaß nicht zu kurz kommen und eure eigenen Ideen sind wie immer\, herzlich willkommen. Auch stehen viele kleine Ausflüge auf dem Programm.\r\n\r\nWir freuen uns auf vier knallbunte\, lustige Tage mit euch.\r\n
URL;VALUE=URI:https://www.unser-ferienprogramm.de/langenhagen/veranstaltung.php?id=297774
SUMMARY:Kunterbunte Osterwoche
DTSTART;TZID=Europe/Berlin:20260324T090000
END:VEVENT


BEGIN:VEVENT
DTEND;TZID=Europe/Berlin:20260325T130000
UID:69e5f5aa77cd22
DTSTAMP:20260420T114514
LOCATION:Haus der Jugend\, Langenforther Platz 1\, 30851 Langenhagen
DESCRIPTION:In der kunterbunten Osterwoche wollen wir mit dir gemeinsam malen\, basteln\, gestalten und spielen. Dabei kann das ein oder andere Geschenk entstehen. Der Osterhase braucht nämlich unsere Unterstützung!\r\nAußerdem soll auch der Spaß nicht zu kurz kommen und eure eigenen Ideen sind wie immer\, herzlich willkommen. Auch stehen viele kleine Ausflüge auf dem Programm.\r\n\r\nWir freuen uns auf vier knallbunte\, lustige Tage mit euch.\r\n
URL;VALUE=URI:https://www.unser-ferienprogramm.de/langenhagen/veranstaltung.php?id=297774
SUMMARY:Kunterbunte Osterwoche
DTSTART;TZID=Europe/Berlin:20260325T090000
END:VEVENT


BEGIN:VEVENT
DTEND;TZID=Europe/Berlin:20260326T130000
UID:69e5f5aa77cdc3
DTSTAMP:20260420T114514
LOCATION:Haus der Jugend\, Langenforther Platz 1\, 30851 Langenhagen
DESCRIPTION:In der kunterbunten Osterwoche wollen wir mit dir gemeinsam malen\, basteln\, gestalten und spielen. Dabei kann das ein oder andere Geschenk entstehen. Der Osterhase braucht nämlich unsere Unterstützung!\r\nAußerdem soll auch der Spaß nicht zu kurz kommen und eure eigenen Ideen sind wie immer\, herzlich willkommen. Auch stehen viele kleine Ausflüge auf dem Programm.\r\n\r\nWir freuen uns auf vier knallbunte\, lustige Tage mit euch.\r\n
URL;VALUE=URI:https://www.unser-ferienprogramm.de/langenhagen/veranstaltung.php?id=297774
SUMMARY:Kunterbunte Osterwoche
DTSTART;TZID=Europe/Berlin:20260326T090000
END:VEVENT


BEGIN:VEVENT
DTEND;TZID=Europe/Berlin:20260327T130000
UID:69e5f5aa77ce74
DTSTAMP:20260420T114514
LOCATION:Haus der Jugend\, Langenforther Platz 1\, 30851 Langenhagen
DESCRIPTION:In der kunterbunten Osterwoche wollen wir mit dir gemeinsam malen\, basteln\, gestalten und spielen. Dabei kann das ein oder andere Geschenk entstehen. Der Osterhase braucht nämlich unsere Unterstützung!\r\nAußerdem soll auch der Spaß nicht zu kurz kommen und eure eigenen Ideen sind wie immer\, herzlich willkommen. Auch stehen viele kleine Ausflüge auf dem Programm.\r\n\r\nWir freuen uns auf vier knallbunte\, lustige Tage mit euch.\r\n
URL;VALUE=URI:https://www.unser-ferienprogramm.de/langenhagen/veranstaltung.php?id=297774
SUMMARY:Kunterbunte Osterwoche
DTSTART;TZID=Europe/Berlin:20260327T090000
END:VEVENT

END:VCALENDAR
