BEGIN:VCALENDAR
VERSION:2.0
PRODID:-//hacksw/handcal//NONSGML v1.0//EN
CALSCALE:GREGORIAN
BEGIN:VTIMEZONE
TZID:Europe/Berlin
X-LIC-LOCATION:Europe/Berlin
BEGIN:DAYLIGHT
TZOFFSETFROM:+0100
TZOFFSETTO:+0200
TZNAME:CEST
DTSTART:19700329T020000
RRULE:FREQ=YEARLY;BYDAY=-1SU;BYMONTH=3
END:DAYLIGHT
BEGIN:STANDARD
TZOFFSETFROM:+0200
TZOFFSETTO:+0100
TZNAME:CET
DTSTART:19701025T030000
RRULE:FREQ=YEARLY;BYDAY=-1SU;BYMONTH=10
END:STANDARD
END:VTIMEZONE
BEGIN:VEVENT
DTEND;TZID=Europe/Berlin:20260331T163000
UID:69e5efb31ae6e
DTSTAMP:20260420T111947
LOCATION:Hemmingen\, Langenhagen & Seelze
DESCRIPTION:Seit vielen Jahren ist das „Super-Ei“ fester Bestandteil der Osterferien in der Region Hannover. Mehrere Jugendeinrichtungen aus der Region veranstalten gemeinsam einen Wettbewerb\, bei dem Teamgeist\, Kreativität und Geschick gefragt sind. Dieses Jahr sind wir in Hemmingen\, Langenhagen und Seelze.\r\nWir starten täglich mit einem gemeinsamen Frühstück an den jeweiligen Austragungsorten. In spannenden Wettkämpfen und abwechslungsreichen Spielen sammelt jedes Team Punkte. Punkte können in verschiedenen Kategorien gesammelt werden\, z. B.: Schnitzeljagd\, Table Quiz\, \r\nEscape-Spiele\, E-Sport\, Geocaching\, Kreativwettbewerbe\, Jugger-Turnier\, u. v. m. \r\nAm Ende winkt der begehrte Wanderpokal: Das Super-Ei. \r\n\r\nDoch eigentlich gewinnen alle\, denn Fairplay und Spaß stehen im Mittelpunkt. Ganz nebenbei entdeckst du neue Orte und schließt vielleicht sogar neue Freundschaften.\r\n\r\n\r\n
URL;VALUE=URI:https://www.unser-ferienprogramm.de/langenhagen/veranstaltung.php?id=297772
SUMMARY:** ABGESAGT ** Super-Ei / Team Battles 
DTSTART;TZID=Europe/Berlin:20260331T091500
END:VEVENT


BEGIN:VEVENT
DTEND;TZID=Europe/Berlin:20260401T163000
UID:69e5efb31ae8c1
DTSTAMP:20260420T111947
LOCATION:Hemmingen\, Langenhagen & Seelze
DESCRIPTION:Seit vielen Jahren ist das „Super-Ei“ fester Bestandteil der Osterferien in der Region Hannover. Mehrere Jugendeinrichtungen aus der Region veranstalten gemeinsam einen Wettbewerb\, bei dem Teamgeist\, Kreativität und Geschick gefragt sind. Dieses Jahr sind wir in Hemmingen\, Langenhagen und Seelze.\r\nWir starten täglich mit einem gemeinsamen Frühstück an den jeweiligen Austragungsorten. In spannenden Wettkämpfen und abwechslungsreichen Spielen sammelt jedes Team Punkte. Punkte können in verschiedenen Kategorien gesammelt werden\, z. B.: Schnitzeljagd\, Table Quiz\, \r\nEscape-Spiele\, E-Sport\, Geocaching\, Kreativwettbewerbe\, Jugger-Turnier\, u. v. m. \r\nAm Ende winkt der begehrte Wanderpokal: Das Super-Ei. \r\n\r\nDoch eigentlich gewinnen alle\, denn Fairplay und Spaß stehen im Mittelpunkt. Ganz nebenbei entdeckst du neue Orte und schließt vielleicht sogar neue Freundschaften.\r\n\r\n\r\n
URL;VALUE=URI:https://www.unser-ferienprogramm.de/langenhagen/veranstaltung.php?id=297772
SUMMARY:** ABGESAGT ** Super-Ei / Team Battles 
DTSTART;TZID=Europe/Berlin:20260401T091500
END:VEVENT


BEGIN:VEVENT
DTEND;TZID=Europe/Berlin:20260402T163000
UID:69e5efb31ae9f2
DTSTAMP:20260420T111947
LOCATION:Hemmingen\, Langenhagen & Seelze
DESCRIPTION:Seit vielen Jahren ist das „Super-Ei“ fester Bestandteil der Osterferien in der Region Hannover. Mehrere Jugendeinrichtungen aus der Region veranstalten gemeinsam einen Wettbewerb\, bei dem Teamgeist\, Kreativität und Geschick gefragt sind. Dieses Jahr sind wir in Hemmingen\, Langenhagen und Seelze.\r\nWir starten täglich mit einem gemeinsamen Frühstück an den jeweiligen Austragungsorten. In spannenden Wettkämpfen und abwechslungsreichen Spielen sammelt jedes Team Punkte. Punkte können in verschiedenen Kategorien gesammelt werden\, z. B.: Schnitzeljagd\, Table Quiz\, \r\nEscape-Spiele\, E-Sport\, Geocaching\, Kreativwettbewerbe\, Jugger-Turnier\, u. v. m. \r\nAm Ende winkt der begehrte Wanderpokal: Das Super-Ei. \r\n\r\nDoch eigentlich gewinnen alle\, denn Fairplay und Spaß stehen im Mittelpunkt. Ganz nebenbei entdeckst du neue Orte und schließt vielleicht sogar neue Freundschaften.\r\n\r\n\r\n
URL;VALUE=URI:https://www.unser-ferienprogramm.de/langenhagen/veranstaltung.php?id=297772
SUMMARY:** ABGESAGT ** Super-Ei / Team Battles 
DTSTART;TZID=Europe/Berlin:20260402T091500
END:VEVENT

END:VCALENDAR
