BEGIN:VCALENDAR
VERSION:2.0
PRODID:-//hacksw/handcal//NONSGML v1.0//EN
CALSCALE:GREGORIAN
BEGIN:VTIMEZONE
TZID:Europe/Berlin
X-LIC-LOCATION:Europe/Berlin
BEGIN:DAYLIGHT
TZOFFSETFROM:+0100
TZOFFSETTO:+0200
TZNAME:CEST
DTSTART:19700329T020000
RRULE:FREQ=YEARLY;BYDAY=-1SU;BYMONTH=3
END:DAYLIGHT
BEGIN:STANDARD
TZOFFSETFROM:+0200
TZOFFSETTO:+0100
TZNAME:CET
DTSTART:19701025T030000
RRULE:FREQ=YEARLY;BYDAY=-1SU;BYMONTH=10
END:STANDARD
END:VTIMEZONE
BEGIN:VEVENT
DTEND;TZID=Europe/Berlin:20260808T130000
UID:69e5dbad4065d
DTSTAMP:20260420T095421
LOCATION:Heideheim in Burgwedel
DESCRIPTION:In den Sommerferien 2026 bieten wir wieder eine JuLeiCa-Grundausbildung an.\r\n\r\nEuch erwarten wieder viele spannende Themen\, wie\r\n- Sozialisation im Kindes- und Jugendalter\r\n- Kommunikation\r\n- Gruppenpädagogik\r\n- Recht\r\n- Kindeswohl und Kinder-/Jugendschutz\r\n- Antidiskriminierung und Inklusion\r\n- Partizipation\r\n- Spielepädagogik\r\n- Erlebnispädagogik\r\nund viele Möglichkeiten des Ausprobierens.\r\n\r\nWir freuen uns darauf\, diese Themen gemeinsam mit euch zu bearbeiten!\r\n\r\nIm Anschluss bekommt ihr eine Teilnahmebestätigung\, mit der ihr eure JuLeiCa beantragen könnt.\r\nDamit könnt ihr anschließend Kinder- und Jugendgruppen ehrenamtlich begleiten.
URL;VALUE=URI:https://www.unser-ferienprogramm.de/langenhagen/veranstaltung.php?id=292585
SUMMARY:Jugendleitenden Ausbildung (Sommer-JuLeiCa)
DTSTART;TZID=Europe/Berlin:20260803T100000
END:VEVENT

END:VCALENDAR
