BEGIN:VCALENDAR
VERSION:2.0
PRODID:-//hacksw/handcal//NONSGML v1.0//EN
CALSCALE:GREGORIAN
BEGIN:VTIMEZONE
TZID:Europe/Berlin
X-LIC-LOCATION:Europe/Berlin
BEGIN:DAYLIGHT
TZOFFSETFROM:+0100
TZOFFSETTO:+0200
TZNAME:CEST
DTSTART:19700329T020000
RRULE:FREQ=YEARLY;BYDAY=-1SU;BYMONTH=3
END:DAYLIGHT
BEGIN:STANDARD
TZOFFSETFROM:+0200
TZOFFSETTO:+0100
TZNAME:CET
DTSTART:19701025T030000
RRULE:FREQ=YEARLY;BYDAY=-1SU;BYMONTH=10
END:STANDARD
END:VTIMEZONE
BEGIN:VEVENT
DTEND;TZID=Europe/Berlin:20260505T203000
UID:69e5c54273548
DTSTAMP:20260420T081842
LOCATION:Haus der Jugend Langenhagen
DESCRIPTION:Vom 10. Februar bis zum 5. Mai 2026 bieten wir eine JuLeiCa-Grundausbildung an.\r\n\r\nDie Schulung findet über einen Zeitraum von drei Monaten statt – jeden Dienstag von 17:30 bis 20:30 Uhr im Haus der Jugend in Langenhagen sowie am 25. April ganztägig im Schullandheim Heideheim in Burgwedel.\r\n\r\nEuch erwarten wieder viele spannende Themen\, wie\r\n- Sozialisation im Kindes- und Jugendalter\r\n- Kommunikation\r\n- Gruppenpädagogik\r\n- Recht\r\n- Kindeswohl und Kinder-/Jugendschutz\r\n- Antidiskriminierung und Inklusion\r\n- Partizipation\r\n- Spielepädagogik\r\nund viele Möglichkeiten des Ausprobierens.\r\n\r\nWir freuen uns darauf\, diese Themen gemeinsam mit euch zu bearbeiten!\r\n\r\nIm Anschluss bekommt ihr eine Teilnahmebestätigung\, mit der ihr eure JuLeiCa beantragen könnt.\r\nDamit könnt ihr anschließend Kinder- und Jugendgruppen ehrenamtlich begleiten.\r\n\r\nAnmeldeschluss: 26.01.2026
URL;VALUE=URI:https://www.unser-ferienprogramm.de/langenhagen/veranstaltung.php?id=292562
SUMMARY:Jugendleitenden-Ausbildung (JuLeiCa-Nachmittagskurs)
DTSTART;TZID=Europe/Berlin:20260210T173000
END:VEVENT

END:VCALENDAR
