BEGIN:VCALENDAR
VERSION:2.0
PRODID:-//hacksw/handcal//NONSGML v1.0//EN
CALSCALE:GREGORIAN
BEGIN:VTIMEZONE
TZID:Europe/Berlin
X-LIC-LOCATION:Europe/Berlin
BEGIN:DAYLIGHT
TZOFFSETFROM:+0100
TZOFFSETTO:+0200
TZNAME:CEST
DTSTART:19700329T020000
RRULE:FREQ=YEARLY;BYDAY=-1SU;BYMONTH=3
END:DAYLIGHT
BEGIN:STANDARD
TZOFFSETFROM:+0200
TZOFFSETTO:+0100
TZNAME:CET
DTSTART:19701025T030000
RRULE:FREQ=YEARLY;BYDAY=-1SU;BYMONTH=10
END:STANDARD
END:VTIMEZONE
BEGIN:VEVENT
DTEND;TZID=Europe/Berlin:20260605T160000
UID:69e8113bb6b6e
DTSTAMP:20260422T020723
LOCATION:VFL Achdorf\, Veldener Straße 90 \,84036 Landshut 
DESCRIPTION:Ferien voller Action und Spaß mit LaSpaceMovement!\r\n\r\nUnser Ferienprogramm ist genau das Richtige für alle bewegungshungrigen Kids! Hier gibt es keine Langeweile – nur coole Moves und unvergessliche Erlebnisse:\r\n\r\n\r\n- Parkour: Hindernisse überwinden wie die Profis – sicher und kreativ!\r\n- Freerunning: Atemberaubende Flips\, Tricks und elegante Bewegungen entdecken.\r\n- Trampolin: Höhenflüge erleben und spektakuläre Sprünge meistern.\r\n- Technik & Skill-Training: Schritt für Schritt neue Fähigkeiten erlernen und verbessern.\r\n- Spaß-Challenges & Teamspiele: Gemeinsam Herausforderungen meistern und Spaß haben.\r\n\r\nUnsere erfahrenen Trainer sorgen für Sicherheit und individuelle Förderung\, damit jedes Kind begeistert nach Hause geht – voller Stolz und neuen Moves im Gepäck!
URL;VALUE=URI:https://www.unser-ferienprogramm.de/landshut/veranstaltung.php?id=316806
SUMMARY:Ferienkurs Parkour - LA Spacemovement Pfingsten II
DTSTART;TZID=Europe/Berlin:20260601T080000
END:VEVENT

END:VCALENDAR
