BEGIN:VCALENDAR
VERSION:2.0
PRODID:-//hacksw/handcal//NONSGML v1.0//EN
CALSCALE:GREGORIAN
BEGIN:VTIMEZONE
TZID:Europe/Berlin
X-LIC-LOCATION:Europe/Berlin
BEGIN:DAYLIGHT
TZOFFSETFROM:+0100
TZOFFSETTO:+0200
TZNAME:CEST
DTSTART:19700329T020000
RRULE:FREQ=YEARLY;BYDAY=-1SU;BYMONTH=3
END:DAYLIGHT
BEGIN:STANDARD
TZOFFSETFROM:+0200
TZOFFSETTO:+0100
TZNAME:CET
DTSTART:19701025T030000
RRULE:FREQ=YEARLY;BYDAY=-1SU;BYMONTH=10
END:STANDARD
END:VTIMEZONE
BEGIN:VEVENT
DTEND;TZID=Europe/Berlin:20260601T170000
UID:69e8113c3d27a
DTSTAMP:20260422T020724
LOCATION:Bushaltestelle Linie 606\, Am Lurzenhof\, Landshut
DESCRIPTION:Gemeinsam erkunden wir das spannende Naturschutzgebiet rund um den ehemaligen Standortübungsplatz und die Ochsenau – ein Ort voller Geheimnisse\, Geschichten und erstaunlicher Tier- und Pflanzenwelt. Hier\, wo früher Militär unterwegs war\, hat sich die Natur ihren Raum zurückerobert. Was bedeutet das für die Landschaft von heute? Das finden wir zusammen heraus!\r\n\r\nAuf unserer Entdeckungstour streifen wir durch den Wald und gehen seiner Geschichte auf den Grund: Wie hat er sich verändert\, und warum ist er heute so wertvoll? Mit offenen Augen und Ohren begeben wir uns außerdem auf die Suche nach faszinierenden Bewohnern wie der seltenen Gelbbauchunke und anderen Amphibien. Wer genau hinschaut\, entdeckt vielleicht auch schillernde Libellen an den Gewässern!\r\n\r\nEin weiteres Highlight: Wir lernen\, warum Schafe und Ziegen hier eine wichtige Rolle spielen. Was hat Beweidung mit Naturschutz zu tun? Und wie helfen die Tiere dabei\, die Landschaft zu erhalten?\r\n\r\nFreut euch auf spannende Einblicke\, kleine Entdeckungsmissionen und jede Menge Natur zum Anfassen.
URL;VALUE=URI:https://www.unser-ferienprogramm.de/landshut/veranstaltung.php?id=316692
SUMMARY:Erkundung Naturschutzgebiet ehemaliger Standortübungsplatz
DTSTART;TZID=Europe/Berlin:20260601T130000
END:VEVENT

END:VCALENDAR
