BEGIN:VCALENDAR
VERSION:2.0
PRODID:-//hacksw/handcal//NONSGML v1.0//EN
CALSCALE:GREGORIAN
BEGIN:VTIMEZONE
TZID:Europe/Berlin
X-LIC-LOCATION:Europe/Berlin
BEGIN:DAYLIGHT
TZOFFSETFROM:+0100
TZOFFSETTO:+0200
TZNAME:CEST
DTSTART:19700329T020000
RRULE:FREQ=YEARLY;BYDAY=-1SU;BYMONTH=3
END:DAYLIGHT
BEGIN:STANDARD
TZOFFSETFROM:+0200
TZOFFSETTO:+0100
TZNAME:CET
DTSTART:19701025T030000
RRULE:FREQ=YEARLY;BYDAY=-1SU;BYMONTH=10
END:STANDARD
END:VTIMEZONE
BEGIN:VEVENT
DTEND;TZID=Europe/Berlin:20260522T180000
UID:69e811347ea10
DTSTAMP:20260422T020716
LOCATION:Alte Kaserne
DESCRIPTION:Wir freuen uns\, euch auch in diesem Jahr zu unserem Bunten Spieltag in der Alten Kaserne begrüßen zu dürfen!\r\n\r\nGeboten wird ein vielseitiges Programm für Kinder und Jugendliche. Verschiedene Mal- und Bastelangebote\, eine Hüpfburg\, eine Tragerlrutsche\, Zorbingbälle\, Kinderschminken\, Ballontiere\, ein Soccerfeld\, ein Kletterfelsen und weitere Angebote sorgen für Unterhaltung und Spaß.\r\n\r\nDer Spieletag ist kostenlos und ohne Anmeldung. Die Aufsichtspflicht liegt bei den Eltern.
URL;VALUE=URI:https://www.unser-ferienprogramm.de/landshut/veranstaltung.php?id=311768
SUMMARY:Bunter Spieletag
DTSTART;TZID=Europe/Berlin:20260522T140000
END:VEVENT

END:VCALENDAR
